BEGIN:VCALENDAR
VERSION:2.0
PRODID:-//wp-events-plugin.com//6.3//EN
TZID:Europe/Rome
X-WR-TIMEZONE:Europe/Rome
BEGIN:VEVENT
UID:0-34@chiesadimilano.it
DTSTART;TZID=Europe/Rome:20230730T000000
DTEND;TZID=Europe/Rome:20230805T000000
DTSTAMP:20230702T180754Z
URL:https://www.chiesadimilano.it/eventi/vita-consacrata-esercizi-spiritua
 li-a-seveso
SUMMARY:Vita consacrata\, Esercizi spirituali a Seveso
DESCRIPTION:«Il dono della Parola – La Vita Consacrata come sale e lievi
 to» è il tema degli Esercizi spirituali che l’Usmi dell’Arcidiocesi 
 di Milano organizza al Centro pastorale di Seveso dal 30 luglio al 5 agost
 o. Saranno guidati da padre Lorenzo Cortesi\, sacerdote religioso dehonian
 o\, e si rivolgono in particolare alle persone consacrate e a tutti coloro
  che cercano il volto del Signore.\nQui il programma\nSono aperte le iscri
 zioni (tel. 02.58313651\; usmi.diocesimilano@gmail.com).
ATTACH;FMTTYPE=image/jpeg:https://www.chiesadimilano.it/wp-content/uploads
 /sites/83/2023/06/preghiera.jpeg
CATEGORIES:In evidenza
LOCATION:Centro Pastorale Ambrosiano\, via San Carlo 2\, Altopiano di Seves
 o\, Lombardia\, 20822\, Monza e della Brianza\, Italia
GEO:45.650254;9.143944
X-APPLE-STRUCTURED-LOCATION;VALUE=URI;X-ADDRESS=via San Carlo 2\, Altopiano
  di Seveso\, Lombardia\, 20822\, Monza e della Brianza\, Italia;X-APPLE-RA
 DIUS=100;X-TITLE=Centro Pastorale Ambrosiano:geo:45.650254,9.143944
END:VEVENT
BEGIN:VTIMEZONE
TZID:Europe/Rome
X-LIC-LOCATION:Europe/Rome
BEGIN:DAYLIGHT
DTSTART:20230326T030000
TZOFFSETFROM:+0100
TZOFFSETTO:+0200
TZNAME:CEST
END:DAYLIGHT
END:VTIMEZONE
END:VCALENDAR