BEGIN:VCALENDAR
VERSION:2.0
PRODID:-//wp-events-plugin.com//6.3//EN
TZID:Europe/Rome
X-WR-TIMEZONE:Europe/Rome
BEGIN:VEVENT
UID:0-463@chiesadimilano.it
DTSTART;TZID=Europe/Rome;VALUE=DATE:20240106
DTEND;TZID=Europe/Rome;VALUE=DATE:20240107
DTSTAMP:20231220T144314Z
URL:https://www.chiesadimilano.it/eventi/visite-guidate-alla-certosa-di-ga
 regnano
SUMMARY:Visite guidate alla Certosa di Garegnano
DESCRIPTION:La parrocchia della Certosa organizza mensilmente visite guidat
 e parrocchiali per singole persone alla Certosa di Milano\, più conosciut
 a come Certosa di Garegnano\; antico complesso Certosino ora divenuto parr
 occhia della città.\nLa Certosa\, oltre che essere memoria storica della 
 presenza Certosina in Milano voluta dai Visconti\, Signori di Milano\, è 
 particolarmente apprezzata dal punto di vista artistico per gli affreschi 
 interni eseguiti da Daniele Crespi\, Simone Peterzano e Biagio Bellotti.\n
 Le date:\nSabato 6 Gennaio ore 15.30\nDomenica 21 Gennaio ore 15.30\nDomen
 ica 25 Febbraio ore 15.30\nDomenica 17 Marzo ore 15.30\nLe visite sono gra
 tuite\, sarà possibile lasciare un’offerta libera alla parrocchia per i
  lavori di restauro.\nÉ obbligatoria l’iscrizione on-line compilando i 
 format ai link che si trovano sul sito www.certosadimilano.com\; si può r
 ichiedere i link anche scrivendo alla mail visitecertosa.milano@gmail.com.
ATTACH;FMTTYPE=image/jpeg:https://www.chiesadimilano.it/wp-content/uploads
 /sites/83/2017/10/413_lmd80-00413_06.jpg
LOCATION:Certosa di Garegnano\, via Garegnano 28\, Milano\, Lombardia\, 201
 57\, Milano\, Italia
GEO:45.502423;9.128882
X-APPLE-STRUCTURED-LOCATION;VALUE=URI;X-ADDRESS=via Garegnano 28\, Milano\,
  Lombardia\, 20157\, Milano\, Italia;X-APPLE-RADIUS=100;X-TITLE=Certosa di
  Garegnano:geo:45.502423,9.128882
END:VEVENT
BEGIN:VTIMEZONE
TZID:Europe/Rome
X-LIC-LOCATION:Europe/Rome
BEGIN:STANDARD
DTSTART:20231029T020000
TZOFFSETFROM:+0200
TZOFFSETTO:+0100
TZNAME:CET
END:STANDARD
END:VTIMEZONE
END:VCALENDAR