BEGIN:VCALENDAR
VERSION:2.0
PRODID:-//wp-events-plugin.com//6.3//EN
TZID:Europe/Rome
X-WR-TIMEZONE:Europe/Rome
BEGIN:VEVENT
UID:0-2389@chiesadimilano.it
DTSTART;TZID=Europe/Rome:20251226T000000
DTEND;TZID=Europe/Rome:20251226T000000
DTSTAMP:20251218T091437Z
URL:https://www.chiesadimilano.it/eventi/visite-guidate-alla-certosa-di-ga
 regnano-ogni-mese-un-appuntamento-gratuito
SUMMARY:Visite guidate alla Certosa di Garegnano: ogni mese un appuntamento
  gratuito
DESCRIPTION:Prossima data venerdì 26 dicembre alle 15.30\, per scoprire un
 o dei luoghi più affascinanti di Milano\nLa parrocchia della Certosa orga
 nizza mensilmente visite guidate parrocchiali per singole persone alla Cer
 tosa di Milano\, più conosciuta come Certosa di Garegnano\; antico comple
 sso Certosino ora divenuto parrocchia della città. Il prossimo appuntamen
 to è per venerdì 26 dicembre\, alle ore 15.30.\nLa Certosa\, oltre che e
 ssere memoria storica della presenza Certosina in Milano voluta dai Viscon
 ti\, Signori di Milano\, è particolarmente apprezzata dal punto di vista 
 artistico per gli affreschi interni eseguiti da Daniele Crespi\, Simone Pe
 terzano e Biagio Bellotti.\nLe visite sono gratuite: è possibile lasciare
  un’offerta libera alla parrocchia per i lavori di restauro. È possibil
 e iscriversi sul sito www.certosadimilano.com.\nLa Certosa si trova a Mila
 no in via Garegnano 28\; è raggiungibile facilmente con il tram 14 o il b
 us 40 o il passante ferroviario Stazione Certosa.
ATTACH;FMTTYPE=image/jpeg:https://www.chiesadimilano.it/wp-content/uploads
 /sites/83/2017/02/1.75365.jpg
CATEGORIES:In evidenza
LOCATION:Certosa di Garegnano\, via Garegnano 28\, Milano\, Lombardia\, 201
 57\, Milano\, Italia
GEO:45.502423;9.128882
X-APPLE-STRUCTURED-LOCATION;VALUE=URI;X-ADDRESS=via Garegnano 28\, Milano\,
  Lombardia\, 20157\, Milano\, Italia;X-APPLE-RADIUS=100;X-TITLE=Certosa di
  Garegnano:geo:45.502423,9.128882
END:VEVENT
BEGIN:VTIMEZONE
TZID:Europe/Rome
X-LIC-LOCATION:Europe/Rome
BEGIN:STANDARD
DTSTART:20251026T020000
TZOFFSETFROM:+0200
TZOFFSETTO:+0100
TZNAME:CET
END:STANDARD
END:VTIMEZONE
END:VCALENDAR