BEGIN:VCALENDAR
VERSION:2.0
PRODID:-//wp-events-plugin.com//6.3//EN
TZID:Europe/Rome
X-WR-TIMEZONE:Europe/Rome
BEGIN:VEVENT
UID:0-2374@chiesadimilano.it
DTSTART;TZID=Europe/Rome;VALUE=DATE:20251224
DTEND;TZID=Europe/Rome;VALUE=DATE:20251225
DTSTAMP:20251210T111709Z
URL:https://www.chiesadimilano.it/eventi/unoccasione-che-scaldera-il-tuo-c
 uore-dona-un-pasto-caldo-alle-persone-senza-dimora
SUMMARY:Un’occasione che scalderà il tuo cuore: “Dona un pasto caldo a
 lle persone senza dimora!”
DESCRIPTION:L’Associazione Ronda Carità e Solidarietà di Milano in coll
 aborazione con i Frati del Centro S. Antonio e Opera San Francesco organiz
 za la 25° edizione della Notte della Vigilia di Natale 2025.\nCelebrazion
 e della Santa Messa alle ore 20. Cena della Vigilia alle ore 21 servita da
  un gruppo di volontarie e volontari. L’evento si svolgerà mercoledì 2
 4 dicembre 2025 a partire dalle ore 18.30 presso il mezzanino della linea 
 metropolitana MM1 Porta Venezia (ingresso da C.so Buenos Aires).\nL’iniz
 iativa costituisce un momento di condivisione e solidarietà tra le person
 e senza dimora e la cittadinanza.\nUn sentito ringraziamento ad ATM per la
  sua grande disponibilità e generosità nel mettere a disposizione i prop
 ri spazi\, rendendo possibile la realizzazione di questo importante evento
 .\nLa Messa e la Cena della Vigilia di Natale rappresentano un appuntament
 o divenuto ormai tradizionale per Ronda Carità e Solidarietà\, che lo pr
 omuove la sera del 24 dicembre\, da ormai 25 anni\, confidando nel grande 
 valore della solidarietà.\nQuale momento di festa e raccoglimento aperto 
 a tutti e tutte le cittadine e i cittadini milanesi\, la serata è un’oc
 casione speciale per riunirsi\, raccogliersi e vivere lo spirito natalizio
  attraverso gesti concreti di fraternità e solidarietà\, stando accanto 
 “gli ultimi”.\nA coloro che anche quest’anno vorranno supportarci ne
 ll’organizzazione e nello svolgimento dell’evento\, candidandosi come 
 “volontari per un giorno” chiediamo di inviare una -mail all’indiriz
 zo e-mail: eventi@rondacaritamilano.com entro e non oltre il 13 dicembre\
 , attendendo successive indicazioni organizzative. Ringraziamo fin d’ora
  per la collaborazione.
ATTACH;FMTTYPE=image/jpeg:https://www.chiesadimilano.it/wp-content/uploads
 /sites/83/2025/12/Senza-titolo-2.jpg
LOCATION:Mezzanino della linea metropolitana MM1 Porta Venezia\, C.so Bueno
 s Aires\, Milano\, Lombardia\, 20124\, Milano\, Italia
GEO:45.481027;9.211634
X-APPLE-STRUCTURED-LOCATION;VALUE=URI;X-ADDRESS=C.so Buenos Aires\, Milano\
 , Lombardia\, 20124\, Milano\, Italia;X-APPLE-RADIUS=100;X-TITLE=Mezzanino
  della linea metropolitana MM1 Porta Venezia:geo:45.481027,9.211634
END:VEVENT
BEGIN:VTIMEZONE
TZID:Europe/Rome
X-LIC-LOCATION:Europe/Rome
BEGIN:STANDARD
DTSTART:20251026T020000
TZOFFSETFROM:+0200
TZOFFSETTO:+0100
TZNAME:CET
END:STANDARD
END:VTIMEZONE
END:VCALENDAR