BEGIN:VCALENDAR
VERSION:2.0
PRODID:-//wp-events-plugin.com//6.3//EN
TZID:Europe/Rome
X-WR-TIMEZONE:Europe/Rome
BEGIN:VEVENT
UID:0-2725@chiesadimilano.it
DTSTART;TZID=Europe/Rome:20260503T000000
DTEND;TZID=Europe/Rome:20260503T000000
DTSTAMP:20260424T085939Z
URL:https://www.chiesadimilano.it/eventi/un-pellegrinaggio-al-femminile-la
 bbazia-di-chiaravalle-lordine-cistercense-e-le-figure-delle-donne-tra-arte
 -e-spiritualita
SUMMARY:Un pellegrinaggio al femminile: l'Abbazia di Chiaravalle\, l'Ordine
  cistercense e le figure delle donne
DESCRIPTION:Domenica 3 maggio\, dalle 15.30\, all'Abbazia di Chiaravalle si
  terrà un "pellegrinaggio al femminile"\, tra arte e spiritualità. L'ini
 ziativa è resa possibile grazie all'impegno della Fondazione Grana Padano
 \, che promuove occasioni di conoscenza e valorizzazione dell'Abbazia di C
 hiaravalle\, consentendo la scoperta di alcuni luoghi speciali solitamente
  non visitabili.\nIl pellegrinaggio si apre con una visita all'Abbazia di 
 Chiaravalle incentrata sulle figure femminili cui l'Ordine cistercense e i
  monaci di Chiaravalle sono stati particolarmente devoti. Particolare risa
 lto ha chiaramente la figura di Maria e le rappresentazioni iconografiche 
 a lei dedicate\, comprendenti il ciclo giottesco del suo Transito\, la Mad
 onna con santi cistercensi affrescata nel chiostro da Callisto Piazza\, la
  Pala d'Altare del Sojaro in Sala del Capitolo e la Madonna della Buonanot
 te di Bernardino Luini. Il viaggio\, dipanandosi all'interno del mondo fem
 minile\, si allarga alla visita della cappella di Maria Maddalena e alle v
 arie cappelle raffiguranti i personaggi femminili protagonisti dei testi b
 iblici. Per questa unica occasione viene aperto il cimitero medievale dell
 a comunità monastica\, luogo di stretta clausura\, ove è ancora visibile
  la cappella funeraria che un tempo ospitava le spoglie di Guglielma da Mi
 lano\, che nella seconda metà del Duecento fu particolarmente legata ai m
 onaci di Chiaravalle tanto da essere l'unica donna della storia ad avere i
 l privilegio di sepoltura all'interno del monastero.\nLa sosta in cimitero
  consente di approfondire il ruolo dei grandi mecenati che lungo il corso 
 dei secoli si sono prodigati nella cura e nella custodia dell'abbazia: dag
 li Archinti ai Della Torre per finire\, in epoca contemporanea\, alla gran
 de figura di Raffaele Mattioli\, il cui impegno permise\, alla metà del s
 ecolo scorso\, l'intera ristrutturazione del chiostro duecentesco.\nLa tes
 timonianza di un monaco offre la possibilità di comprendere l'attuale vit
 a interna della comunità composta da 16 monaci\, le loro attività produt
 tive\, i tempi della loro giornata scanditi dalla Regola di San Benedetto 
 e viene accompagnata da letture teatrali di donne significative nella stor
 ia.\nIl pellegrinaggio prosegue con un cammino a piedi lungo il parco dell
 a Vettabbia\, parco agricolo in cui un tempo i monaci coltivavano i propri
  campi. Un cammino che giornalmente svolgevano per recarsi alla loro grang
 ia nel borgo di Nosedo\, sede di produzione e dei grandi magazzini delle d
 errate che venivano poi trasferite alla città di Milano\, e che in questa
  occasione viene percorso accompagnati da letture teatrali al femminile. G
 rangia oggi conosciuta come Cascina Corte San Giacomo\, è il punto di arr
 ivo del cammino. Abbandonata per tanto tempo e ridotta a rudere\, la Casci
 na Corte San Giacomo negli anni '80 del secolo scorso fu recuperata\, rist
 rutturata e valorizzata dall'Associazione Nocetum\, organizzazione di volo
 ntariato\, anche per ridare dignità a donne sole con i loro bimbi e oggi 
 insieme alla Cooperativa Nocetum e all'Associazione privata di fedeli cerc
 a di vivere l'ecologia integrale descritta da papa Francesco nella sua Lau
 dato si'\, animando il luogo con progetti che legano la solidarietà\, (ac
 coglienza\, inserimento lavorativo\, iniziative culturali e didattiche)\, 
 con la cura del creato (City Farm con animali\, ortofrutteto\, una cucina 
 solidale\, una bottega con prodotti locali). L'arrivo consente di scoprire
  la spiritualità che ancora oggi anima il luogo e di visitare la chiesa d
 ei Santi Filippo e Giacomo ad essa annessa\, antica chiesa di origini pale
 ocristiane sorta su un preesistente cimitero che ospita un affresco con un
  meraviglioso Cristo benedicente del Duecento.\n&nbsp\;\n&nbsp\;
ATTACH;FMTTYPE=image/jpeg:https://www.chiesadimilano.it/wp-content/uploads
 /sites/83/2026/04/Pellegrinaggio.jpg
LOCATION:Abbazia Chiaravalle\, Via Sant'Arialdo\, 102\, Milano\, Lombardia\
 , 20139\, Milano\, Italia
GEO:45.416641;9.235732
X-APPLE-STRUCTURED-LOCATION;VALUE=URI;X-ADDRESS=Via Sant'Arialdo\, 102\, Mi
 lano\, Lombardia\, 20139\, Milano\, Italia;X-APPLE-RADIUS=100;X-TITLE=Abba
 zia Chiaravalle:geo:45.416641,9.235732
END:VEVENT
BEGIN:VTIMEZONE
TZID:Europe/Rome
X-LIC-LOCATION:Europe/Rome
BEGIN:DAYLIGHT
DTSTART:20260329T030000
TZOFFSETFROM:+0100
TZOFFSETTO:+0200
TZNAME:CEST
END:DAYLIGHT
END:VTIMEZONE
END:VCALENDAR