BEGIN:VCALENDAR
VERSION:2.0
PRODID:-//wp-events-plugin.com//6.3//EN
TZID:Europe/Rome
X-WR-TIMEZONE:Europe/Rome
BEGIN:VEVENT
UID:0-2722@chiesadimilano.it
DTSTART;TZID=Europe/Rome:20260426T000000
DTEND;TZID=Europe/Rome:20260510T000000
DTSTAMP:20260422T134614Z
URL:https://www.chiesadimilano.it/eventi/torna-il-mercatino-benefico-dei-f
 rati-cappuccini-curiosando-alla-chiesa-rossa
SUMMARY:Torna il Mercatino benefico dei Frati Cappuccini “Curiosando” a
 lla Chiesa Rossa
DESCRIPTION:Torna il mercatino benefico “Curiosando” da sabato 25 april
 e a domenica 10 maggio a Santa Maria alla Fonte\, per i milanesi la Chiesa
  Rossa\, sul Naviglio Pavese all’altezza della Conca Fallata (via della 
 Chiesa Rossa\, 55\, Metro Linea Rossa- fermata Abbiategrasso).\nOggettisti
 ca\, articoli per la casa\, giochi\, libri\, accessori vintage vari\, quad
 ri in una atmosfera che ricorda il classico mercatino delle pulci: al ‘
 Curiosando’ si possono trovare autentiche chicche. Poi bambini\, famigli
 e e anziani possono trascorrere ore serene nel parco omonimo\, 30.000 mq
  di verde ben curato\, tra architetture rurali risalenti fino al 1.100\
 , attrezzature per i più piccoli e un simpatico bar sotto un portico\, g
 estito da una cooperativa sociale.\nIl Mercatino è organizzato a scopo be
 nefico dalla comunità di Frati Cappuccini che ha in cura la chiesa al fin
 e di raccogliere fondi per la sua manutenzione e i necessari continui res
 tauri. Ricordiamo che si tratta di un monumento tra i più antichi e prez
 iosi della città\, risalente al X secolo e a suo tempo edificata sui r
 esti ancora visibili di una domus romana e di un sacello.\nSabato 9 e dome
 nica 10 maggio in occasione della Festa della Mamma saranno disponibili an
 che “fiori per la mamma”. Tra l’altro la chiesa è meta di speciale 
 devozione mariana anche grazie a un affresco della “Madonna del latte”
 .\nE’ possibile anche donare oggetti per alimentare il mercatino (no abi
 ti e scarpe usati) rivolgendosi a Fra Mauro (email fra.mauro@missioni.org)
 \nOrari del mercatino:\nSabato 25 aprile\, 2\,3 e 9 maggio 10-12 16\,19\,3
 0\nDomenica 26 aprile\, 3 e 10 maggio 10\,15-13 16-19\,30\nLunedi chiuso\n
 Martedi 27 aprile\, mercoledì\,28\, e giovedì 30 e poi lunedì4\, marted
 ì 5 mercoledì 6 giovedì 7 e venerdì 8 maggio 16-18\nVenerdì 1 maggio 
 sabato 10-12 16-19\,30
ATTACH;FMTTYPE=image/jpeg:https://www.chiesadimilano.it/wp-content/uploads
 /sites/83/2022/04/1280px-IMG_2861_-_La_Chiesa_Rossa_a_Milano_-_Foto_Giovan
 ni_DallOrto_April_17_2011.jpg
LOCATION:Santa Maria alla Fonte\, via Chiesa Rossa 55\, Milano\, Lombardia\
 , 20142\, Milano\, Italia
GEO:45.431291;9.17284
X-APPLE-STRUCTURED-LOCATION;VALUE=URI;X-ADDRESS=via Chiesa Rossa 55\, Milan
 o\, Lombardia\, 20142\, Milano\, Italia;X-APPLE-RADIUS=100;X-TITLE=Santa M
 aria alla Fonte:geo:45.431291,9.17284
END:VEVENT
BEGIN:VTIMEZONE
TZID:Europe/Rome
X-LIC-LOCATION:Europe/Rome
BEGIN:DAYLIGHT
DTSTART:20260329T030000
TZOFFSETFROM:+0100
TZOFFSETTO:+0200
TZNAME:CEST
END:DAYLIGHT
END:VTIMEZONE
END:VCALENDAR