BEGIN:VCALENDAR
VERSION:2.0
PRODID:-//wp-events-plugin.com//6.3//EN
TZID:Europe/Rome
X-WR-TIMEZONE:Europe/Rome
BEGIN:VEVENT
UID:0-2367@chiesadimilano.it
DTSTART;TZID=Europe/Rome;VALUE=DATE:20251212
DTEND;TZID=Europe/Rome;VALUE=DATE:20251213
DTSTAMP:20251209T100330Z
URL:https://www.chiesadimilano.it/eventi/sport-e-pace-a-basiano
SUMMARY:“Sport e pace” a Basiano
DESCRIPTION:Appuntamento con “Il cammino della pace”\, insieme a Luca C
 remonesi\, atleta paralimpico di handbike in programma il 12 dicembre alle
  21 presso la Sala Consiliare del Comune di Basiano in via Roma 15.\nLa se
 rata è organizzata dalla Cooperativa sociale Punto d’Incontro Ets in co
 llaborazione con l’Istituto Comprensivo Basiano\, gli oratori di Masate 
 e Basiano e il patrocinio dell’Unione Lombarda dei Comuni di Basiano e M
 asate.
ATTACH;FMTTYPE=image/jpeg:https://www.chiesadimilano.it/wp-content/uploads
 /sites/83/2025/12/Luca-Cremonesi.jpg
LOCATION:Comune di Basiano\, via Roma 15\, Masate\, Lombardia\, 20065\, Mil
 ano\, Italia
GEO:45.566806;9.465092
X-APPLE-STRUCTURED-LOCATION;VALUE=URI;X-ADDRESS=via Roma 15\, Masate\, Lomb
 ardia\, 20065\, Milano\, Italia;X-APPLE-RADIUS=100;X-TITLE=Comune di Basia
 no:geo:45.566806,9.465092
END:VEVENT
BEGIN:VTIMEZONE
TZID:Europe/Rome
X-LIC-LOCATION:Europe/Rome
BEGIN:STANDARD
DTSTART:20251026T020000
TZOFFSETFROM:+0200
TZOFFSETTO:+0100
TZNAME:CET
END:STANDARD
END:VTIMEZONE
END:VCALENDAR