BEGIN:VCALENDAR
VERSION:2.0
PRODID:-//wp-events-plugin.com//6.3//EN
TZID:Europe/Rome
X-WR-TIMEZONE:Europe/Rome
BEGIN:VEVENT
UID:0-2379@chiesadimilano.it
DTSTART;TZID=Europe/Rome;VALUE=DATE:20251217
DTEND;TZID=Europe/Rome;VALUE=DATE:20251218
DTSTAMP:20251212T113838Z
URL:https://www.chiesadimilano.it/eventi/siria-intima-fede-e-guerra-allamb
 rosianeum
SUMMARY:Siria Intima'\, “Fede e guerra” all'Ambrosianeum
DESCRIPTION:Sala Falck\, mercoledì 17 dicembre ore 18.30. È dedicato alla
  Siria il primo degli incontri all'Ambrosianeum con la mostra “Fede e gu
 erra”. Con Claudio Antonelli\, vicedirettore de Il Sole24Ore\, Elena Bol
 ognesi\, editor e traduttrice\, Davide Canella\, fotografo\, Jacopo Mocchi
 \, giornalista.\nIn collegamento: Padre Bahjat Karakach\, parroco della Ch
 iesa Latina di Aleppo\, padre Jihad Youssef\, priore del monastero di Dier
  Mar Musa. Introduce: Fabio Pizzul\; presidente Fondazione Ambrosianeum.\n
 L’incontro nasce dall’esigenza di comprendere più a fondo le dinamic
 he sociali politiche che stanno segnando la lenta e complessa rinascita de
 l Paese. Dopo oltre un decennio di conflitto\, la Siria si trova oggi in u
 na fase di transizione fragile\, in cui convivono speranze di ricostruzion
 e\, ferite ancora aperte e sfide umanitarie enormi.\nIl sentimento di appa
 rtenenza e la fede continuano a legare intere comunità segnate da anni d
 i violenze settarie. Un filo rosso di incertezza unisce i fedeli di Damasc
 o\, le vittime degli attentati di Mar Elias\, gli abitanti di Basser e Kha
 raba\, fino alle combattenti assire Nutoro del Rojava. E nel silenzio del 
 monastero di Deir Mar Musa\, fondato da padre Paolo Dall'Oglio\, sopravvi
 ve il sogno di un dialogo abramitico\, fragile ma necessario\, tra cristia
 ni e musulmani.\nA seguire visita guidata della mostra con gli autori. La
  partecipazione all'incontro è libera e gratuita.\nI prossimi appuntament
 i:\n- 29 Gennaio 2026 Nel nome della terra (Armenia)\n- 09 Febbraio 20
 26 Rivoluzione in Myanmar (Myanmar)\n- 26 Febbraio 2026 La terza guerr
 a (Libano)\n- 17 marzo 2026 Cicatrici della terra (Nigeria)\nAmbrosian
 eum - Via delle Ore\, 3 - Milano
ATTACH;FMTTYPE=image/jpeg:https://www.chiesadimilano.it/wp-content/uploads
 /sites/83/2025/12/MilImg_193_897110_2226315_20251211174448_2.jpg
LOCATION:Fondazione Ambrosianeum\,  Via delle Ore\, 3 \, Milano\, Lombardia
 \, 20122\, Milano\, Italia
GEO:45.462894;9.19256
X-APPLE-STRUCTURED-LOCATION;VALUE=URI;X-ADDRESS= Via delle Ore\, 3 \, Milan
 o\, Lombardia\, 20122\, Milano\, Italia;X-APPLE-RADIUS=100;X-TITLE=Fondazi
 one Ambrosianeum:geo:45.462894,9.19256
END:VEVENT
BEGIN:VTIMEZONE
TZID:Europe/Rome
X-LIC-LOCATION:Europe/Rome
BEGIN:STANDARD
DTSTART:20251026T020000
TZOFFSETFROM:+0200
TZOFFSETTO:+0100
TZNAME:CET
END:STANDARD
END:VTIMEZONE
END:VCALENDAR