BEGIN:VCALENDAR
VERSION:2.0
PRODID:-//wp-events-plugin.com//6.3//EN
TZID:Europe/Rome
X-WR-TIMEZONE:Europe/Rome
BEGIN:VEVENT
UID:0-2373@chiesadimilano.it
DTSTART;TZID=Europe/Rome;VALUE=DATE:20251219
DTEND;TZID=Europe/Rome;VALUE=DATE:20251220
DTSTAMP:20251210T102726Z
URL:https://www.chiesadimilano.it/eventi/segni-di-bellezza-magnificat-conc
 erto-finale-nella-basilica-del-corpus-domini-a-milano
SUMMARY:Segni di Bellezza: “Magnificat”\, concerto finale nella Basilic
 a del Corpus Domini a Milano
DESCRIPTION:Il cammino di Segni di Bellezza si conclude con questo concerto
  finale\, il 19 dicembre 2025 alle 21 Basilica del Corpus Domini - Cripta\
 , intrecciando nuovi passi e nuove luci nel percorso dedicato ad Anima Mun
 di\, il tema che ci accompagna in questa undicesima stagione: se l’anima
  del mondo è ciò che tiene insieme ogni forma di vita\, questa serata vu
 ole essere un invito a magnificare la vita stessa\, in tutte le sue sfumat
 ure: luminose\, fragili\, imprevedibili\, sempre degne di stupore.\nIl pro
 gramma riunisce due capolavori di Johann Sebastian Bach: la Suite n. 3 in 
 Re maggiore BWV 1068\, con il suo respiro ampio e rigenerante\, e il Magni
 ficat\, pagina di esultanza e profondità\, capace di trasformare un canto
  di gratitudine in un inno alla grandezza dell’esistenza.\nIn queste mus
 iche l’anima sembra espandersi: la festa e la contemplazione convivono\,
  l’intimità si apre a un orizzonte più vasto\, l’umano si accorda co
 n quel soffio che permea il mondo.\nMagnificare significa riconoscere ciò
  che è grande anche quando appare piccolo\, lasciarsi toccare dalla vita 
 fino a sentirne la forza segreta. È lo stesso movimento che abbiamo richi
 amato più volte nel nostro tema: alzare il cuore\, ampliare lo sguardo\, 
 lasciarsi raggiungere da quell’armonia che attraversa tutte le cose.\nA 
 dare voce a questa serata saranno il Coro Bach di Milano e l’Orchestra M
 ilano Classica\, interpreti che da anni condividono con noi la ricerca di 
 una bellezza che non sia solo da ascoltare\, ma da abitare.\n\nProgramma\n
 J.S. Bach Magnificat\nJ.S: Bach Suite per orchestra in Re maggiore BWV 106
 8\nCoro Bach di Milano (direttore del coro Sandro Rodeghiero)\nOrchestra S
 infonica Milano Classica\nDirettore Michele Brescia\nIngresso libero fino 
 a esaurimento posti\, con posti riservati per i sostenitori\nsocial https:
 //www.facebook.com/segnidibellezza - https://www.instagram.com/segnidibell
 ezza/\nContatti e info mail stagione.segnidibellezza@gmail.com  \nWhatsap
 p/cell 331 2972753 dalle 14 alle 18
ATTACH;FMTTYPE=image/jpeg:https://www.chiesadimilano.it/wp-content/uploads
 /sites/83/2025/12/580082006_17983275713917847.jpg
LOCATION:Basilica del Corpus Domini - Cripta\, via Mario Pagano 8\, Milano\
 , Lombardia\, 20145\, Milano\, Italia
GEO:45.468944;9.162094
X-APPLE-STRUCTURED-LOCATION;VALUE=URI;X-ADDRESS=via Mario Pagano 8\, Milano
 \, Lombardia\, 20145\, Milano\, Italia;X-APPLE-RADIUS=100;X-TITLE=Basilica
  del Corpus Domini - Cripta:geo:45.468944,9.162094
END:VEVENT
BEGIN:VTIMEZONE
TZID:Europe/Rome
X-LIC-LOCATION:Europe/Rome
BEGIN:STANDARD
DTSTART:20251026T020000
TZOFFSETFROM:+0200
TZOFFSETTO:+0100
TZNAME:CET
END:STANDARD
END:VTIMEZONE
END:VCALENDAR