BEGIN:VCALENDAR
VERSION:2.0
PRODID:-//wp-events-plugin.com//6.3//EN
TZID:Europe/Rome
X-WR-TIMEZONE:Europe/Rome
BEGIN:VEVENT
UID:0-2672@chiesadimilano.it
DTSTART;TZID=Europe/Rome:20260413T000000
DTEND;TZID=Europe/Rome:20260419T000000
DTSTAMP:20260402T083959Z
URL:https://www.chiesadimilano.it/eventi/santambrogio-si-svelano-gli-affre
 schi-del-tiepolo
SUMMARY:Sant’Ambrogio\, si svelano gli affreschi del Tiepolo
DESCRIPTION:In occasione della Milano Art Week\, dal 13 al 19 aprile il per
 corso museale «Ambrosius» nella basilica di Sant'Ambrogio a Milano si ar
 ricchisce con l'apertura straordinaria della Cappella dei Santi Bartolomeo
  e Satiro\, solitamente chiusa al pubblico\, dove per l'occasione sarà po
 ssibile ammirare due importanti affreschi di Giambattista Tiepolo.\nLe due
  opere fanno parte di un ciclo realizzato da Tiepolo nel 1737 su commissio
 ne dei monaci cistercensi. Originariamente destinati a decorare ambienti d
 el complesso monastico come la Cappella di San Vittore in Ciel d'oro o la 
 Sacrestia dei Monaci\, staccati nel XIX secolo\, gli affreschi raccontano 
 episodi delle vite dei santi a cui il sacello è dedicato: il «Martirio d
 i san Vittore» raffigura il sacrificio del santo milanese\, mentre il «N
 aufragio di san Satiro» narra la vicenda del fratello di Ambrogio\, mirac
 olosamente salvato durante il viaggio di ritorno dal Nord Africa.\nEntramb
 e le opere sono state oggetto di un importante intervento di restauro nel 
 2020 in occasione della mostra dedicata al Tiepolo alle Gallerie d'Italia 
 a Milano.
ATTACH;FMTTYPE=image/jpeg:https://www.chiesadimilano.it/wp-content/uploads
 /sites/83/2026/04/Martirio-di-San-Vittore-Tiepolo.png
LOCATION:Basilica di Sant'Ambrogio\, Piazza Sant'Ambrogio\, 15\, Milano\, L
 ombardia\, 20144\, Milano\, Italia
GEO:45.462037;9.17466
X-APPLE-STRUCTURED-LOCATION;VALUE=URI;X-ADDRESS=Piazza Sant'Ambrogio\, 15\,
  Milano\, Lombardia\, 20144\, Milano\, Italia;X-APPLE-RADIUS=100;X-TITLE=B
 asilica di Sant'Ambrogio:geo:45.462037,9.17466
END:VEVENT
BEGIN:VTIMEZONE
TZID:Europe/Rome
X-LIC-LOCATION:Europe/Rome
BEGIN:DAYLIGHT
DTSTART:20260329T030000
TZOFFSETFROM:+0100
TZOFFSETTO:+0200
TZNAME:CEST
END:DAYLIGHT
END:VTIMEZONE
END:VCALENDAR