BEGIN:VCALENDAR
VERSION:2.0
PRODID:-//wp-events-plugin.com//6.3//EN
TZID:Europe/Rome
X-WR-TIMEZONE:Europe/Rome
BEGIN:VEVENT
UID:0-2378@chiesadimilano.it
DTSTART;TZID=Europe/Rome;VALUE=DATE:20251215
DTEND;TZID=Europe/Rome;VALUE=DATE:20251216
DTSTAMP:20251212T095904Z
URL:https://www.chiesadimilano.it/eventi/sala-falck-concerto-a-favore-del-
 comitato-andos-di-milano
SUMMARY:Sala Falck: concerto a favore del Comitato Andos di Milano
DESCRIPTION:La musica che unisce\, sostiene e illumina. Un concerto special
 e a favore del Comitato Andos Milano ODV\, una serata in cui arte e solida
 rietà si incontrano per dare forza alle donne nel loro percorso di cura e
  rinascita.\nSul palco\, due straordinari interpreti: Gabriele Bortoluzzi\
 , violino\ned Elena Agape\, pianoforte.\nIngresso a offerta libera a parti
 re da €10\nPrenotazioni: Laura 340 385 8867\nLunedì 15 dicembre ore 19.
 30 -\nAmbrosianeum - Via delle Ore\, 3 - Milano
ATTACH;FMTTYPE=image/jpeg:https://www.chiesadimilano.it/wp-content/uploads
 /sites/83/2025/12/Gabriele-Bortoluzzi-1.jpg
LOCATION:Fondazione Ambrosianeum\,  Via delle Ore\, 3 \, Milano\, Lombardia
 \, 20122\, Milano\, Italia
GEO:45.462894;9.19256
X-APPLE-STRUCTURED-LOCATION;VALUE=URI;X-ADDRESS= Via delle Ore\, 3 \, Milan
 o\, Lombardia\, 20122\, Milano\, Italia;X-APPLE-RADIUS=100;X-TITLE=Fondazi
 one Ambrosianeum:geo:45.462894,9.19256
END:VEVENT
BEGIN:VTIMEZONE
TZID:Europe/Rome
X-LIC-LOCATION:Europe/Rome
BEGIN:STANDARD
DTSTART:20251026T020000
TZOFFSETFROM:+0200
TZOFFSETTO:+0100
TZNAME:CET
END:STANDARD
END:VTIMEZONE
END:VCALENDAR