BEGIN:VCALENDAR
VERSION:2.0
PRODID:-//wp-events-plugin.com//6.3//EN
TZID:Europe/Rome
X-WR-TIMEZONE:Europe/Rome
BEGIN:VEVENT
UID:0-2390@chiesadimilano.it
DTSTART;TZID=Europe/Rome:20251220T000000
DTEND;TZID=Europe/Rome:20251220T000000
DTSTAMP:20251218T121733Z
URL:https://www.chiesadimilano.it/eventi/sabato-a-lecco-messa-e-concerto-d
 i-natale-in-memoria-di-don-mazzuccato
SUMMARY:Sabato a Lecco\, Messa e Concerto di Natale in memoria di don Mazzu
 ccato.
DESCRIPTION:Per ricordare don Luigi Mazzucato\, storico direttore di Medici
  con l’Africa Cuamm dal 1950 al 2008\, sabato 20 dicembre presso la chie
 sa di Acquate di Lecco\, alle ore 18 verrà celebrata la Santa Messa in su
 a memoria e alle ore 21 si terrà il Concerto di Natale del Coro San Giorg
 io.\nIl ricavato della serata sarà destinato a sostenere le attività di 
 Medici con l'Africa Cuamm.\nÈ possibile parcheggiare in via Foscolo e via
  Tonale.\n\nPer informazioni: \nValeria Frigerio v.frigerio@cuamm.org
ATTACH;FMTTYPE=image/jpeg:https://www.chiesadimilano.it/wp-content/uploads
 /sites/83/2025/12/dLuigi_2.jpg
LOCATION:Chiesa parrocchiale di Acquate\, via don Abbondio 1\, Acquate\, It
 alia
GEO:45.560917;9.508163
X-APPLE-STRUCTURED-LOCATION;VALUE=URI;X-ADDRESS=via don Abbondio 1\, Acquat
 e\, Italia;X-APPLE-RADIUS=100;X-TITLE=Chiesa parrocchiale di Acquate:geo:4
 5.560917,9.508163
END:VEVENT
BEGIN:VTIMEZONE
TZID:Europe/Rome
X-LIC-LOCATION:Europe/Rome
BEGIN:STANDARD
DTSTART:20251026T020000
TZOFFSETFROM:+0200
TZOFFSETTO:+0100
TZNAME:CET
END:STANDARD
END:VTIMEZONE
END:VCALENDAR