BEGIN:VCALENDAR
VERSION:2.0
PRODID:-//wp-events-plugin.com//6.3//EN
TZID:Europe/Rome
X-WR-TIMEZONE:Europe/Rome
BEGIN:VEVENT
UID:0-2258@chiesadimilano.it
DTSTART;TZID=Europe/Rome:20251215T000000
DTEND;TZID=Europe/Rome:20251215T000000
DTSTAMP:20251029T101800Z
URL:https://www.chiesadimilano.it/eventi/rorate-a-saronno-la-messa-a-lume-
 di-candela-luci-di-speranza-del-giubileo
SUMMARY:”Rorate”: a Saronno la Messa a lume di candela. Luci di speranz
 a del Giubileo
DESCRIPTION:Lunedì 15 dicembre alle ore 7.00 (prima dell’alba\, a lume d
 i candela…) presso il Santuario della Beata Vergine dei Miracoli di Saro
 nno si celebra la Santa Messa “Rorate”\; si suggerisce di partecipare 
 portando con sé un lume o una propria torcia elettrica\; al termine verr
 à offerta la colazione.\n\nUna particolarità di questa Messa detta “Ro
 rate” è che viene celebrata al buio\, solo alla luce delle candele. Dev
 e avvenire prima dell’alba e il suo simbolismo è enorme: un’espressio
 ne estrema dell’Avvento. Questa Messa “Rorate” inizia con la sola lu
 ce delle candele e delle lanterne\, con le luci spente in chiesa\; i fedel
 i tengono nelle loro mani i lumini che fanno rischiarare le tenebre dell
 ’edificio e sono un segno di attesa della venuta di Cristo. Collegato a 
 questo simbolismo c’è il fatto che questa Messa viene celebrata in memo
 ria della Santissima Vergine Maria\, chiamata anche “Stella del Mattino
 ”\, colei che ci indica sempre suo Figlio\; in questo modo\, la Messa 
 “Rorate” ci ricorda il ruolo di Maria nella storia della Salvezza. Ci 
 ricorda anche che l’oscurità della notte viene sempre vinta dalla luce 
 del giorno: è una verità semplice\, ma spesso dimenticata e che questa c
 elebrazione vuole essere un momento significativo quasi al termine del Giu
 bileo 2025\, dedicato alla Speranza.\n\nIl Santuario di Saronno organizza 
 ritiri ed itinerari di preghiera per gruppi familiari\, movimenti e parroc
 chie. \nPer prenotare un pellegrinaggio o una visita\, lasciare un messagg
 io in segreteria telefonica a don Massimiliano Bianchi al numero 02 960302
 7\; oppure scrivete una mail a segreteriamadonnasaronno@gmail.com.\n\nPer 
 informazioni consultare il sito del Santuario alla pagina www.chiesadisaro
 nno.it/comunita-pastorale/beata-vergine-dei-miracoli-2/
ATTACH;FMTTYPE=image/jpeg:https://www.chiesadimilano.it/wp-content/uploads
 /sites/83/2025/10/messa-rorate-santuario-602221.jpg
LOCATION:Santuario della Beata Vergine dei Miracoli\, Piazzale Santuario\, 
 2\, Saronno\, Lombardia\, 21047\, Varese\, Italia
GEO:45.626383;9.02507
X-APPLE-STRUCTURED-LOCATION;VALUE=URI;X-ADDRESS=Piazzale Santuario\, 2\, Sa
 ronno\, Lombardia\, 21047\, Varese\, Italia;X-APPLE-RADIUS=100;X-TITLE=San
 tuario della Beata Vergine dei Miracoli:geo:45.626383,9.02507
END:VEVENT
BEGIN:VTIMEZONE
TZID:Europe/Rome
X-LIC-LOCATION:Europe/Rome
BEGIN:STANDARD
DTSTART:20251026T020000
TZOFFSETFROM:+0200
TZOFFSETTO:+0100
TZNAME:CET
END:STANDARD
END:VTIMEZONE
END:VCALENDAR