BEGIN:VCALENDAR
VERSION:2.0
PRODID:-//wp-events-plugin.com//6.3//EN
TZID:Europe/Rome
X-WR-TIMEZONE:Europe/Rome
BEGIN:VEVENT
UID:0-2427@chiesadimilano.it
DTSTART;TZID=Europe/Rome:20260126T000000
DTEND;TZID=Europe/Rome:20260126T000000
DTSTAMP:20260114T111242Z
URL:https://www.chiesadimilano.it/eventi/professione-giornalista-lunedi-in
 sieme-con-alessandro-milan
SUMMARY:Professione giornalista: «Lunedì insieme» con Alessandro Milan
DESCRIPTION:Lunedì 26 gennaio alle 20.45\, presso il Teatro della Parrocch
 ia di Gesù Buon Pastore a Milano. nuovo appuntamento con i «Lunedì insi
 eme»\, incontri culturali organizzati dalle tre comunità parrocchiali di
  San Francesco d'Assisi al Fopponino\, Santa Maria Segreta e Gesù Buon Pa
 store. Ospite della serata Alessandro Milan: lavora a Radio 24 dal 1999. 
 Ha condotto diversi programmi di inchiesta e di rassegna stampa. Ha al suo
  attivo anche quattro libri\, due dedicati alla moglie Francesca prematura
 mente scomparsa\, diverse esperienze televisive e teatrali in tutta Italia
 . È presidente dell’Associazione Wondy Sono Io che si adopera per sensi
 bilizzare sulla capacità di trasformare le difficoltà della vita in oppo
 rtunità. \n\nIl giornalismo resta una delle professioni più importanti 
 e affascinanti nel mondo della comunicazione. E il perché è presto detto
 : dà alla gente occhi\, orecchie e bocca per farsi sentire e\, soprattutt
 o\, cerca di far sviluppare un senso critico di fronte agli avvenimenti ch
 e accadono quotidianamente. Ma come si svolge l’attività di giornalista
  oggi? Quali sono le difficoltà e le criticità che un buon giornalista d
 eve affrontare per garantire\, anche alla luce di uno sviluppo tecnologico
  sempre più presente\, un‘informazione affidabile e di qualità?\n\n«I
 n concomitanza con la celebrazione di San Francesco di Sales\, “patrono 
 dei giornalisti e dei comunicatori” - spiega il parroco don Matteo Baral
 di - abbiamo perciò pensato di ospitare una delle voci radiofoniche più 
 amate dell’etere italiano\, capace di raccontare la realtà dei nostri g
 iorni con schiettezza\, capacità narrativa e un po’ di leggerezza».\n\
 n\n
ATTACH;FMTTYPE=image/jpeg:https://www.chiesadimilano.it/wp-content/uploads
 /sites/83/2026/01/images.jpeg
CATEGORIES:In evidenza
LOCATION:Parrocchia Gesù Buon Pastore\, via sebastiano caboto 2\, Milano\,
  Lombardia\, 20144\, Milano\, Italia
GEO:45.462073;9.156353
X-APPLE-STRUCTURED-LOCATION;VALUE=URI;X-ADDRESS=via sebastiano caboto 2\, M
 ilano\, Lombardia\, 20144\, Milano\, Italia;X-APPLE-RADIUS=100;X-TITLE=Par
 rocchia Gesù Buon Pastore:geo:45.462073,9.156353
END:VEVENT
BEGIN:VTIMEZONE
TZID:Europe/Rome
X-LIC-LOCATION:Europe/Rome
BEGIN:STANDARD
DTSTART:20251026T020000
TZOFFSETFROM:+0200
TZOFFSETTO:+0100
TZNAME:CET
END:STANDARD
END:VTIMEZONE
END:VCALENDAR