BEGIN:VCALENDAR
VERSION:2.0
PRODID:-//wp-events-plugin.com//6.3//EN
TZID:Europe/Rome
X-WR-TIMEZONE:Europe/Rome
BEGIN:VEVENT
UID:0-655@chiesadimilano.it
DTSTART;TZID=Europe/Rome;VALUE=DATE:20240316
DTEND;TZID=Europe/Rome;VALUE=DATE:20240317
DTSTAMP:20240226T102627Z
URL:https://www.chiesadimilano.it/eventi/parole-e-note-di-speranza-per-una
 -nuova-umanita
SUMMARY:A Solaro parole e note di speranza per una nuova umanità
DESCRIPTION:Il Gruppo Cultura della Comunità Pastorale “Discepoli di Emm
 aus” di Solaro e Villaggio Brollo\, insieme all’Assessorato alla Cultu
 ra\, alle A.C.L.I.\, alle Comunità Musulmane del territorio e all’Azion
 e Cattolica\, propone due diversi eventi sul tema del dialogo intercultura
 le e dell’integrazione\, nel segno di uno sguardo di speranza sul mondo.
  È la rassegna "Parole e note di speranza. Per una nuova umanità"\, prog
 etto accolto e sostenuto volentieri dalla Fondazione Ambrosiana Attività 
 Pastorali\, che si ringrazia.\n\nIl primo appuntamento è sabato 16 marzo 
 alle 21 presso la Villa Borromeo d’Adda con la presentazione del libro C
 ento ripartenze. Quando la vita ricomincia (Itaca\, Castel Bolognese 2022)
  del giornalista e scrittore Giorgio Paolucci: «Non siamo infrangibili. O
 gnuno\, scorrendo il film della propria vita\, può rintracciare momenti p
 iù o meno grandi di difficoltà: una malattia\, la perdita del lavoro\, u
 na disavventura finanziaria\, la detenzione in carcere\, il buco nero di u
 na dipendenza\, una crisi affettiva\, l’emigrazione\, la morte di una pe
 rsona cara… Ma l’uomo ha dentro di sé un inesausto desiderio di rialz
 arsi dopo ogni caduta e di ripartire». L’intervento dell’autore\, seg
 uito da un rinfresco etnico\, vedrà anche la partecipazione di Raymond Ba
 hati\, Direttore del Coro Elikya.\n\nIl secondo evento sarà sabato 20 apr
 ile alle 21 presso la Sala Polifunzionale della Parrocchia Madonna del Car
 mine di Villaggio Brollo (via della Repubblica\, 55 – Solaro). A esibirs
 i sarà proprio il Coro Elikya\, costituito da giovani di diverse nazional
 ità. La passione per la musica li unisce e li rende testimoni di un’int
 egrazione possibile\, che diventa per tutti un messaggio di speranza\, che
  peraltro è anche il significato del termine Elikya.\nIn definitiva\, par
 ole e note che ci educano a vivere da fratelli\, nella bellezza della cond
 ivisione. La narrazione di esistenze che ripartono dopo cadute e gravi dif
 ficoltà\, l’arte del canto e della danza si compongono nella riscoperta
  di ciò che ci costituisce come persone in relazione perché la nostra um
 anità\, arricchita dalla cultura dell’incontro\, possa esserne rinnovat
 a.\nTutte le iniziative sono a ingresso libero e senza prenotazione. \n\n
 Per info: gruppocultura.parrocchiesolaro@gmail.com.
ATTACH;FMTTYPE=image/jpeg:https://www.chiesadimilano.it/wp-content/uploads
 /sites/83/2024/02/team-4529717_1280.jpg
CATEGORIES:In evidenza
END:VEVENT
BEGIN:VTIMEZONE
TZID:Europe/Rome
X-LIC-LOCATION:Europe/Rome
BEGIN:STANDARD
DTSTART:20231029T020000
TZOFFSETFROM:+0200
TZOFFSETTO:+0100
TZNAME:CET
END:STANDARD
END:VTIMEZONE
END:VCALENDAR