BEGIN:VCALENDAR
VERSION:2.0
PRODID:-//wp-events-plugin.com//6.3//EN
TZID:Europe/Rome
X-WR-TIMEZONE:Europe/Rome
BEGIN:VEVENT
UID:0-2716@chiesadimilano.it
DTSTART;TZID=Europe/Rome:20260428T000000
DTEND;TZID=Europe/Rome:20260508T000000
DTSTAMP:20260420T141023Z
URL:https://www.chiesadimilano.it/eventi/ogni-uomo-al-suo-lavoro-a-lecco-u
 na-mostra-per-riscoprire-il-significato-piu-profondo-del-lavoro
SUMMARY:“Ogni Uomo al suo lavoro”: a Lecco una mostra per riscoprire il
  significato più profondo del lavoro
DESCRIPTION:Martedì 28 aprile prenderà avvio un’interessante mostra sul
  tema del lavoro inteso come esperienza imprescindibile di formazione e re
 alizzazione personale\, come occasione di relazioni\nsignificative\, come 
 costruzione di identità\, appartenenza e integrazione sociale.\n\nA promu
 overla\, su sollecitazioni del Vicario Episcopale di zona\, don Gianni Ces
 ena e del Prevosto di Lecco don Bortolo Uberti un gruppo di realtà territ
 oriali che si ispirano ai valori cristiani della Dottrina Sociale\, in con
 tinuità con il Giubileo del lavoro tenutosi lo scorso anno alla Madonna d
 el Bosco.\nUna trentina di pannelli particolarmente evocativi permetterann
 o ai visitatori un vero e proprio percorso di riflessione sul senso profon
 do del lavoro quale esperienza ineludibile del vivere umano. Un’occasion
 e preziosa per cittadini\, giovani studenti degli istituti scolastici e ce
 ntri professionali\, insegnati\, formatori\, educatori\, realtà del mondo
  dell’impresa e del volontariato che potranno visitare la mostra individ
 ualmente oppure prenotando una visita guidata da esperti formati appositam
 ente per l’occasione (per la prenotazione gruppi utilizzare questi link:
  Slot mattina pomeriggio)\nLa mostra\, realizzata grazie al contributo del
 la Banca di Credito Cooperativo della Valsassina e della Fondazione Comuni
 taria del Lecchese\, resterà disponibile con accesso gratuito presso gli 
 spazi dell’Istituto Maria Ausiliatrice di Lecco in Via Caldone\, 18 fino
  all’8 maggio 2026 (tutti i giorni feriali dalle ore 16 alle ore 19\,30)
 .\nAd aprirla un momento inaugurale il giorno 28 di aprile alle ore 18 con
  la presenza del curatore Professor Francesco Seghezzi (la mostra è stata
  presentata per la prima volta lo scorso anno presso il Meeting di Rimini 
 riscuotendo notevole interesse).\n\nA concluderla un convegno tematico\, s
 empre presso la sede della mostra\, il giorno 7 maggio ore 18 con gli inte
 rventi prestigiosi dei docenti dell’Università Cattolica del Sacro Cuor
 e di Milano Professoressa Rosangela Lodigiani e Professor Don Walter Magno
 ni.\n\nUna mostra che parte da lontano\nValore aggiunto della proposta è 
 rappresentato dal processo che le realtà coinvolte hanno vissuto a partir
 e dal Giubileo dello scorso 2025 e che proprio sul tema del lavoro le avev
 a viste stringersi in una prima riflessione promossa a livello zonale dal 
 titolo “Quando il lavoro genera speranza”. Ne è seguito un percorso p
 artecipato di confronto e approfondimento che ha portato alla promozione d
 ella mostra quale occasione di allargamento della riflessione in atto.\nAl
  cuore della proposta la convinzione che il lavoro\, alle prese con grandi
  tensioni trasformative\, richieda in questo momento storico un’attenzio
 ne particolare per comprenderne dinamiche\, valori\, opportunità\, contra
 ddizioni: questo per potere orientare maggiormente scelte responsabili in 
 riferimento alla qualificazione continua dell’esperienza fondamentale ch
 e il lavoro rappresenta per la realizzazione delle persone e delle comunit
 à.\n\n\nLe realtà coinvolte dal percorso\nA promuovere il percorso di ri
 flessione e la Mostra insieme al Vicariato della Zona Pastorale III\, un g
 ruppo di realtà composto da ACLI\, AGESCI\, Azione Cattolica\, CISL\, Com
 pagnia delle Opere\, Confcooperative dell’Adda\, L’Arcobaleno soc.coop
 \, Movimento dei Focolari\, UCID\, UNEBA
ATTACH;FMTTYPE=image/jpeg:https://www.chiesadimilano.it/wp-content/uploads
 /sites/83/2025/04/construction-worker-569126_1280.jpg
CATEGORIES:In evidenza
LOCATION:Istituto Maria Ausiliatrice\, via Caldone\, 18\, Lecco\, Lombardia
 \, 23900\, Lecco\, Italia
GEO:45.860662;9.401656
X-APPLE-STRUCTURED-LOCATION;VALUE=URI;X-ADDRESS=via Caldone\, 18\, Lecco\, 
 Lombardia\, 23900\, Lecco\, Italia;X-APPLE-RADIUS=100;X-TITLE=Istituto Mar
 ia Ausiliatrice:geo:45.860662,9.401656
END:VEVENT
BEGIN:VTIMEZONE
TZID:Europe/Rome
X-LIC-LOCATION:Europe/Rome
BEGIN:DAYLIGHT
DTSTART:20260329T030000
TZOFFSETFROM:+0100
TZOFFSETTO:+0200
TZNAME:CEST
END:DAYLIGHT
END:VTIMEZONE
END:VCALENDAR