BEGIN:VCALENDAR
VERSION:2.0
PRODID:-//wp-events-plugin.com//6.3//EN
TZID:Europe/Rome
X-WR-TIMEZONE:Europe/Rome
BEGIN:VEVENT
UID:0-2360@chiesadimilano.it
DTSTART;TZID=Europe/Rome:20251213T000000
DTEND;TZID=Europe/Rome:20251213T000000
DTSTAMP:20251202T134857Z
URL:https://www.chiesadimilano.it/eventi/noi-del-rione-sanita-noi-di-rozza
 no
SUMMARY:“Noi del Rione Sanità”\, noi di Rozzano
DESCRIPTION:Sabato 13 dicembre alle 18\, promosso dalla biblioteca di Rozza
 no Cascina Grande\, incontro con don Antonio Loffredo. Conduce Marco Ferra
 rio.\n\nDon Antonio Loffredo\, il prete rivoluzionario a cui è ispirata l
 a serie TV recentemente trasmessa dalla RAI\, ci racconterà\, insieme ad 
 alcuni ragazzi\, la vera storia della trasformazione di un quartiere. Che 
 potrebbe aiutarci a migliorare la nostra Rozzano.\nNelle scorse settimane 
 RAI 1 ha trasmesso per tre giovedì di seguito\, in prima serata\, la fort
 unatissima serie “Noi del Rione Sanità” (quasi 3 milioni di spettator
 i in media\, la trasmissione più vista in tutte e tre le serate). La seri
 e ha per protagonista don Giuseppe Santoro (interpretato da Carmine Recano
 )\, che nella vita reale è don Antonio Loffredo\, il sacerdote che ha tra
 sformato la Sanità insieme ai suoi ragazzi e che sarà a Rozzano con alcu
 ni di loro per raccontarci la vera storia di questa incredibile esperienza
 \, anche attraverso la proiezione di alcuni brevi estratti della serie TV.
 \nNon si esagera se si dice che don Antonio è tra i grandi visionari e in
 novatori sociali del nostro tempo: il riferimento più adatto nella storia
  italiana recente è Adriano Olivetti\, per la visionaria capacità impren
 ditoriale\, per la tenace convinzione che il bello\, l’arte e la cultura
  possano essere strumenti di trasformazione sociale e per l’incredibile 
 impatto che la loro azione ha avuto su una comunità\, un territorio e una
  città.\nLa trasformazione del quartiere della Sanità è diventato un ca
 so internazionale di cui si sono occupati giornali e università\; ha coin
 volto personaggi famosi\, dal grande fotografo napoletano Mimmo Jodice rec
 entemente scomparso\, all’icona musicale internazionale Sting\; ha saput
 o attrarre l’attenzione di molte fondazioni e associazioni che tutt’or
 a hanno una presenza nel quartiere. \nDon Antonio ha cambiato la cultura 
 di una comunità: gli chiederemo come è stato possibile e se anche Rozzan
 o può trarne insegnamenti utili e profondi.
ATTACH;FMTTYPE=image/jpeg:https://www.chiesadimilano.it/wp-content/uploads
 /sites/83/2025/12/loffredo.jpg
LOCATION:Biblioteca di Rozzano\, Viale Palmiro Togliatti\, Rozzano\, Lombar
 dia\, 20089\, Milano\, Italia
GEO:45.378277;9.147543
X-APPLE-STRUCTURED-LOCATION;VALUE=URI;X-ADDRESS=Viale Palmiro Togliatti\, R
 ozzano\, Lombardia\, 20089\, Milano\, Italia;X-APPLE-RADIUS=100;X-TITLE=Bi
 blioteca di Rozzano:geo:45.378277,9.147543
END:VEVENT
BEGIN:VTIMEZONE
TZID:Europe/Rome
X-LIC-LOCATION:Europe/Rome
BEGIN:STANDARD
DTSTART:20251026T020000
TZOFFSETFROM:+0200
TZOFFSETTO:+0100
TZNAME:CET
END:STANDARD
END:VTIMEZONE
END:VCALENDAR