BEGIN:VCALENDAR
VERSION:2.0
PRODID:-//wp-events-plugin.com//6.3//EN
TZID:Europe/Rome
X-WR-TIMEZONE:Europe/Rome
BEGIN:VEVENT
UID:0-2401@chiesadimilano.it
DTSTART;TZID=Europe/Rome:20251224T000000
DTEND;TZID=Europe/Rome:20251224T000000
DTSTAMP:20251223T101436Z
URL:https://www.chiesadimilano.it/eventi/natale-in-cascina-linterno-messa-
 e-visita-al-presepe
SUMMARY:Natale in Cascina Linterno: Messa e visita al presepe
DESCRIPTION:Mercoledì 24 dicembre alle 21\, nella chiesetta dell’Assunta
  di Cascina Linterno\, sarà celebrata la Santa Messa Natalizia dai Sacerd
 oti della parrocchia San Giovanni Bosco con Madonna dei Poveri. Al termine
  della funzione\, seguirà il momento conviviale per il tradizionale scamb
 io di auguri.
ATTACH;FMTTYPE=image/jpeg:https://www.chiesadimilano.it/wp-content/uploads
 /sites/83/2025/12/image-2025-12-23T111217.228.jpg
LOCATION:Cascina Linterno\, Via Fratelli Zoia\, 194\, MIlano\, Italia
X-APPLE-STRUCTURED-LOCATION;VALUE=URI;X-ADDRESS=Via Fratelli Zoia\, 194\, M
 Ilano\, Italia;X-APPLE-RADIUS=100;X-TITLE=Cascina Linterno:geo:0,0
END:VEVENT
BEGIN:VTIMEZONE
TZID:Europe/Rome
X-LIC-LOCATION:Europe/Rome
BEGIN:STANDARD
DTSTART:20251026T020000
TZOFFSETFROM:+0200
TZOFFSETTO:+0100
TZNAME:CET
END:STANDARD
END:VTIMEZONE
END:VCALENDAR