BEGIN:VCALENDAR
VERSION:2.0
PRODID:-//wp-events-plugin.com//6.3//EN
TZID:Europe/Rome
X-WR-TIMEZONE:Europe/Rome
BEGIN:VEVENT
UID:0-1482@chiesadimilano.it
DTSTART;TZID=Europe/Rome:20241221T000000
DTEND;TZID=Europe/Rome:20241222T000000
DTSTAMP:20241212T103915Z
URL:https://www.chiesadimilano.it/eventi/natale-il-presepe-biblico-di-bagg
 io-ispirato-al-cardinal-martini
SUMMARY:Natale\, il presepe biblico di Baggio ispirato al cardinal Martini
DESCRIPTION:Una visita al Presepe Biblico di Baggio\, nel seminterrato dell
 a chiesa di Sant’Apollinare\, è un’esperienza unica. La Natività ne 
 è il cuore\, ma il racconto parte dall’Antico Testamento e arriva alla 
 Pentecoste\, dipanandosi in 58 diorami\, tra movimenti e suoni. Un’opera
  che è anche la testimonianza di una storia di dedizione e generosità\, 
 che dura da decenni. Nel 1960\, Egidio Negrini\, catechista di Baggio\, co
 nobbe il futuro cardinal Martini e gli confidò quanto fosse difficile far
  appassionare i ragazzi al catechismo. Il gesuita gli rispose che sarebbe 
 stato bello se tutta la storia di Gesù si fosse potuta spiegare come in u
 n presepe. Egidio lo prese in parola.\nIl presepe è aperto alle visite tu
 tte le domeniche di dicembre dalle 15 alle 18.30 e sabato 21 dalle 10.30 a
 lle 12 e dalle 15 alle 18.30. \nDal 25 dicembre al 6 gennaio\, apertura tu
 tti i giorni dalle 15 alle 18.30 (chiuso il 31).\nL’ingresso è a offert
 a libera.
ATTACH;FMTTYPE=image/jpeg:https://www.chiesadimilano.it/wp-content/uploads
 /sites/83/2024/12/presepe_baggio.jpg
LOCATION:Chiesa di Sant’Apollinare\, Piazza Sant'Apollinare 7\, Milano\, 
 Lombardia\, 20153\, Milano\, Italia
GEO:45.459631;9.094507
X-APPLE-STRUCTURED-LOCATION;VALUE=URI;X-ADDRESS=Piazza Sant'Apollinare 7\, 
 Milano\, Lombardia\, 20153\, Milano\, Italia;X-APPLE-RADIUS=100;X-TITLE=Ch
 iesa di Sant’Apollinare:geo:45.459631,9.094507
END:VEVENT
BEGIN:VTIMEZONE
TZID:Europe/Rome
X-LIC-LOCATION:Europe/Rome
BEGIN:STANDARD
DTSTART:20241027T020000
TZOFFSETFROM:+0200
TZOFFSETTO:+0100
TZNAME:CET
END:STANDARD
END:VTIMEZONE
END:VCALENDAR