BEGIN:VCALENDAR
VERSION:2.0
PRODID:-//wp-events-plugin.com//6.3//EN
TZID:Europe/Rome
X-WR-TIMEZONE:Europe/Rome
BEGIN:VEVENT
UID:0-2375@chiesadimilano.it
DTSTART;TZID=Europe/Rome;VALUE=DATE:20251218
DTEND;TZID=Europe/Rome;VALUE=DATE:20251219
DTSTAMP:20251210T141406Z
URL:https://www.chiesadimilano.it/eventi/natale-fra-echi-barocchi-in-san-b
 abila
SUMMARY:“Natale fra echi barocchi” in San Babila
DESCRIPTION:Il tradizionale appuntamento di Natale torna anche quest’anno
 \, promosso da Bovindo\, a sostegno dell’organizzazione Oftal che\, g
 razie allo spirito di dono di volontari\, medici\, infermieri\, sacerdoti 
 e religiosi\, organizza pellegrinaggi a Lourdes e in altri Santuari.\nIn p
 rogramma nella serata di giovedì 18 dicembre\, presso la Basilica di San
  Babila in Piazza San Babila\,  Milano\, il concerto “Natale fra echi b
 arocchi” vedrà la partecipazione del soprano Francesca Cassinari\, dei
  trombettisti Gabriele Cassone e Matteo Frigé\, e dell’organista Antoni
 o Frigé.\nL’iniziativa\, in collaborazione con la Comunità Pastorale 
 Santi Profeti\, vuole essere un’occasione di condivisione artistica e cu
 lturale per riscoprire gli echi di alcune delle melodie barocche italiane
  e tedesche che impreziosivano liturgie e corti fra il 1600 e il 1700. R
 iascoltando le composizioni di Thomas Eisenhuet\, Luis-Claude Daquin\, Gi
 useppe Gonelli\, Giovanni Bonaventura Viviani\, e non solo\, il pubblico p
 otrà vivere una vera e propria esperienza di riflessione spirituale\, olt
 re che musicale.\nIl cammino di ascolto si aprirà con Alma Redemptoris da
 i Sacri Concentus (1683) e si completerà con Magne Pater tratto dagli Inn
 i Ariosi (1680). Nel cuore di questo itinerario barocco troveranno spazio 
 anche le pagine organistiche e le toccate di Gonelli e Muffat.\n\n\nProgra
 mma della serata\n\n	Thomas Eisenhuet (1644-1702) - dai Sacri Concentus (
 1683): Alma Redemptoris a Canto solo e 2 clarini\n	Luis-Claude Daquin (
 1694-1772) - Noel X\n	Thomas Eisenhuet - dai Sacri Concentus (1683): Av
 e Regina a Canto solo e 2 clarini\n	Georg Muffat (1653-1704) - da Appart
 us musicus organisticus (1690): Toccata X\n	Thomas Eisenhuet - dai Sacri
  Concentus (1683): Salve Regina a Canto solo e 2 clarini\n	Giuseppe Gone
 lli (1685-1745) - Nisi Dominus Canto solo con organo che scherza (1739)
 \n	Giovanni Bonaventura Viviani (1638-1693) - Sonata II per trombetta s
 ola et organo\n	Thomas Eisenhuet - dagli Inni ariosi (1680): Magne Pater
  a Canto solo e 2 clarini\n\nFrancesca Cassinari – Soprano\,  diplomat
 a in Canto e specializzata in repertorio barocco\, collabora con important
 i ensemble italiani e internazionali\, tra cui La Compagnia del Madrigale\
 , La Fonte Musica\, Il Canto di Orfeo\, Cantica Symphonia\, La Venexiana\,
  Collegium 1704 e Cappella Reyal de Catalunya. Ha cantato come solista con
  Concerto Italiano\, La Risonanza\, La Divina Armonia e Stile Galante\, pa
 rtecipando a tournée e produzioni in Europa\, Asia\, Australia e negli St
 ati Uniti. Numerose le sue incisioni premiate\, in particolare su musiche 
 di Monteverdi\, Gesualdo e Marenzio. Interpreta anche repertorio medievale
 \, rinascimentale e contemporaneo.\n\nGabriele Cassone – Trombettista\,
  diplomato in tromba e composizione\, è un rinomato interprete di musica
  barocca su tromba naturale. È stato tromba principale degli English Baro
 que Soloists sotto Sir John Eliot Gardiner per le Cantate di J.S. Bach e i
 l Secondo Concerto Brandeburghese\, e ha collaborato con Ton Koopman e l
 ’Amsterdam Baroque Orchestra registrando la Cantata BWV 51 di Bach. Ha f
 ondato\, insieme ad Antonio Frigé\, l’Ensemble Pian &amp\; Forte e si e
 sibisce come solista nei principali teatri internazionali. Ha pubblicato n
 umerosi CD dedicati al repertorio barocco e insegna tromba presso il Conse
 rvatorio di Novara\, tenendo anche corsi di specializzazione e seminari in
  Europa e negli Stati Uniti.\n\nMatteo Frigé – Trombettista\, diplomato
  in tromba con il massimo dei voti con G. Bonino al Conservatorio “Verdi
 ” di Milano\, in seguitosi è perfezionato con Gabriele Cassone affronta
 ndo soprattutto il repertorio antico con la tromba naturale. Ha collaborat
 o con l’Ensemble Pian &amp\; Forte\, I Pomeriggi Musicali\, Concerto Pal
 atino\, Accademia Montis Regalis\, Modo Antiquo\, I Barocchisti. Nel sette
 mbre del 2013 ha suonato con l’orchestra La Verdi presso la Royal Albert
  Hall di Londra. Nel 2017 ha suonato come prima tromba solista con il Ghis
 lieri Choir &amp\; Consort nella produzione del Messiah di Handel.\n\nAnto
 nio Frigé – Organista\, diplomato in organo e composizione organistica 
 e in clavicembalo presso il Conservatorio di Milano. Vincitore di diversi 
 concorsi nazionali\, ha intrapreso un'intensa attività che lo ha portato 
 a suonare per le più prestigiose società concertistiche\, in tutta Europ
 a e negli USA.\nParticolarmente appassionato alla letteratura del Sei/Sett
 ecento eseguita su strumenti "storici"\, ha registrato più di trenta cd. 
 Da diversi anni collabora\, come musicologo ed esperto informatico\, con l
 e Edizioni BIM (Svizzera)\, con Ricordi e con l'Istituto Vivaldi - Fondazi
 one Cini di Venezia\, per la redazione delle edizioni critiche delle opere
  in musica di Antonio Vivaldi.
ATTACH;FMTTYPE=image/jpeg:https://www.chiesadimilano.it/wp-content/uploads
 /sites/83/2025/12/Francesca-Cassinari-1.jpg
LOCATION:Basilica di San Babila\, Piazza San Babila\, Milano\, Lombardia\, 
 20122\, Milano\, Italia
GEO:45.466374;9.197707
X-APPLE-STRUCTURED-LOCATION;VALUE=URI;X-ADDRESS=Piazza San Babila\, Milano\
 , Lombardia\, 20122\, Milano\, Italia;X-APPLE-RADIUS=100;X-TITLE=Basilica 
 di San Babila:geo:45.466374,9.197707
END:VEVENT
BEGIN:VTIMEZONE
TZID:Europe/Rome
X-LIC-LOCATION:Europe/Rome
BEGIN:STANDARD
DTSTART:20251026T020000
TZOFFSETFROM:+0200
TZOFFSETTO:+0100
TZNAME:CET
END:STANDARD
END:VTIMEZONE
END:VCALENDAR