BEGIN:VCALENDAR
VERSION:2.0
PRODID:-//wp-events-plugin.com//6.3//EN
TZID:Europe/Rome
X-WR-TIMEZONE:Europe/Rome
BEGIN:VEVENT
UID:0-33@chiesadimilano.it
DTSTART;TZID=Europe/Rome;VALUE=DATE:20230706
DTEND;TZID=Europe/Rome;VALUE=DATE:20230707
DTSTAMP:20230629T133218Z
URL:https://www.chiesadimilano.it/eventi/musica-tra-le-guglie-del-duomo
SUMMARY:Musica tra le guglie del Duomo
DESCRIPTION:Continuano le speciali aperture serali delle Terrazze del Duomo
  accompagnate da un momento musicale al tramonto. Ogni giovedì d'estate\,
  fino al 31 agosto 2023\, i visitatori potranno accedere eccezionalmente a
 lle Terrazze della Cattedrale in ascensore (a partire da 15 euro intero\, 
 7\,50 ridotto)\, fino alle 22 (con ultima salita prevista alle 20.40) \, p
 er godere della suggestiva vista tra le guglie e la Madonnina.\nGiovedì 6
  luglio\, in particolare\, a partire dalle 20.30\, protagonista del moment
 o musicale sarà il pianista e compositore Alessandro Martire che incanter
 à i visitatori sulle note del suo iconico pianoforte Waves\, disegnato da
 llo stesso Martire\, proponendo musiche da lui stesso composte.\nNato a Co
 mo il 12 luglio 1992\, Alessandro Martire è un giovane e brillante pianis
 ta e compositore italiano. Scrive le sue prime composizioni già in giovan
 e età\, dimostrando un vivo e crescente interesse per la musica classica 
 contemporanea\, assimilando anche influenze dalla cultura musicale pop\, m
 inimalista e crossover\, e sviluppando uno stile unico e personale.\nPer u
 lteriori informazioni: www.duomomilano.it.
ATTACH;FMTTYPE=image/jpeg:https://www.chiesadimilano.it/wp-content/uploads
 /sites/83/2023/06/MilImg_193_408037_1040583_20230629145913_2.jpg
CATEGORIES:In evidenza
LOCATION:Duomo di Milano\, Piazza del Duomo\, Milano\, Lombardia\, 20122\, 
 Milano\, Italia
GEO:45.46391;9.190643
X-APPLE-STRUCTURED-LOCATION;VALUE=URI;X-ADDRESS=Piazza del Duomo\, Milano\,
  Lombardia\, 20122\, Milano\, Italia;X-APPLE-RADIUS=100;X-TITLE=Duomo di M
 ilano:geo:45.46391,9.190643
END:VEVENT
BEGIN:VTIMEZONE
TZID:Europe/Rome
X-LIC-LOCATION:Europe/Rome
BEGIN:DAYLIGHT
DTSTART:20230326T030000
TZOFFSETFROM:+0100
TZOFFSETTO:+0200
TZNAME:CEST
END:DAYLIGHT
END:VTIMEZONE
END:VCALENDAR