BEGIN:VCALENDAR
VERSION:2.0
PRODID:-//wp-events-plugin.com//6.3//EN
TZID:Europe/Rome
X-WR-TIMEZONE:Europe/Rome
BEGIN:VEVENT
UID:0-2359@chiesadimilano.it
DTSTART;TZID=Europe/Rome;VALUE=DATE:20251214
DTEND;TZID=Europe/Rome;VALUE=DATE:20251215
DTSTAMP:20251202T131352Z
URL:https://www.chiesadimilano.it/eventi/musica-di-pace-concerto-di-natale
 -alla-chiesa-del-redentore
SUMMARY:“Musica di pace”: concerto di Natale alla chiesa del Redentore
DESCRIPTION:Concerto di Natale organizzato dalla Comunità Pastorale Madonn
 a di Loreto a Milano (Parrocchie Santissimo Redentore - Santa Francesca Ro
 mana - San Gregorio). Domenica 14 dicembre ore 15.30 in via P.da Palestri
 na Milano. Ingresso libero.\nIn programma Wolfgang Amadeus Mozart\, Antoni
 o Vivaldi\, Felix Mendelssohn. \nLe offerte donate verranno devolute alla 
 Casa di Abramo - Abu Dhabi (Mons. Martinelli) e all'istituto Effeta' Paolo
  VI di Betlemme.
ATTACH;FMTTYPE=image/jpeg:https://www.chiesadimilano.it/wp-content/uploads
 /sites/83/2025/12/loreto.jpg
LOCATION:Parrocchia S.S. Redentore\, Via Giovanni Pierluigi da Palestrina 5
 \, Milano\, Lombardia\, 20131\, Milano\, Italia
GEO:45.484843;9.214197
X-APPLE-STRUCTURED-LOCATION;VALUE=URI;X-ADDRESS=Via Giovanni Pierluigi da P
 alestrina 5\, Milano\, Lombardia\, 20131\, Milano\, Italia;X-APPLE-RADIUS=
 100;X-TITLE=Parrocchia S.S. Redentore:geo:45.484843,9.214197
END:VEVENT
BEGIN:VTIMEZONE
TZID:Europe/Rome
X-LIC-LOCATION:Europe/Rome
BEGIN:STANDARD
DTSTART:20251026T020000
TZOFFSETFROM:+0200
TZOFFSETTO:+0100
TZNAME:CET
END:STANDARD
END:VTIMEZONE
END:VCALENDAR