BEGIN:VCALENDAR
VERSION:2.0
PRODID:-//wp-events-plugin.com//6.3//EN
TZID:Europe/Rome
X-WR-TIMEZONE:Europe/Rome
BEGIN:VEVENT
UID:0-2235@chiesadimilano.it
DTSTART;TZID=Europe/Rome:20251123T000000
DTEND;TZID=Europe/Rome:20251123T000000
DTSTAMP:20251022T094925Z
URL:https://www.chiesadimilano.it/eventi/monte-resegone-messa-in-ricordo-d
 elle-vittime-della-montagna-3
SUMMARY:Monte Resegone\, messa in ricordo delle vittime della montagna
DESCRIPTION:Domenica 23 novembre alle 15 sarà celebrata la Messa in ricord
 o delle vittime della montagna presso la Cappella Votiva di Costa\, dedica
 ta alla Beata Vergine Maria Madonna del Resegone.\nCelebrerà don Marco Te
 nderini\n\nPer informazioni:\nAssociazione Iniziative Acquatesi\nCell. 340
 .6273498 – www.madonnadelresegone.it
ATTACH;FMTTYPE=image/jpeg:https://www.chiesadimilano.it/wp-content/uploads
 /sites/83/2024/04/7aab2203-9190-1cdb-c074-6325752af8a5.jpg
END:VEVENT
BEGIN:VTIMEZONE
TZID:Europe/Rome
X-LIC-LOCATION:Europe/Rome
BEGIN:STANDARD
DTSTART:20251026T020000
TZOFFSETFROM:+0200
TZOFFSETTO:+0100
TZNAME:CET
END:STANDARD
END:VTIMEZONE
END:VCALENDAR