BEGIN:VCALENDAR
VERSION:2.0
PRODID:-//wp-events-plugin.com//6.3//EN
TZID:Europe/Rome
X-WR-TIMEZONE:Europe/Rome
BEGIN:VEVENT
UID:0-2365@chiesadimilano.it
DTSTART;TZID=Europe/Rome;VALUE=DATE:20251210
DTEND;TZID=Europe/Rome;VALUE=DATE:20251211
DTSTAMP:20251204T145852Z
URL:https://www.chiesadimilano.it/eventi/monsignor-delpini-alla-cerimonia-
 celebrativa-in-occasione-del-185-anniversario-di-fondazione-dellistituto-d
 ei-ciechi-di-milano
SUMMARY:Monsignor Delpini alla cerimonia celebrativa del 185° anniversario
  di fondazione dell'Istituto dei Ciechi di Milano
DESCRIPTION:Mercoledì 10 dicembre\, alle 17.30\, presso la Fondazione Isti
 tuto dei Ciechi di Milano (via Vivaio 7)\, l’Arcivescovo\, monsignor Mar
 io Delpini\, parteciperà alla cerimonia celebrativa in occasione del 185
 ° anniversario di fondazione dell'Istituto.\nI promotori della manifestaz
 ione\, che si terrà in Sala Barozzi\, contano sull’«affettuosa parteci
 pazione di tanti amici»\, certamente «motivo di grande gioia per quanti 
 “camminano nella notte e vedono con gli occhi dell'anima”»\, come dic
 eva Nino Salvaneschi\, scrittore\, giornalista e poeta che perse la vista 
 a causa di una grave malattia.
ATTACH;FMTTYPE=image/jpeg:https://www.chiesadimilano.it/wp-content/uploads
 /sites/83/2025/12/Istituto-ciechi-di-Milano.jpg
LOCATION:Fondazione Istituto dei Ciechi\, via Vivaio 7\, Milano\, Lombardia
 \, 20122\, Milano\, Italia
GEO:45.468881;9.203726
X-APPLE-STRUCTURED-LOCATION;VALUE=URI;X-ADDRESS=via Vivaio 7\, Milano\, Lom
 bardia\, 20122\, Milano\, Italia;X-APPLE-RADIUS=100;X-TITLE=Fondazione Ist
 ituto dei Ciechi:geo:45.468881,9.203726
END:VEVENT
BEGIN:VTIMEZONE
TZID:Europe/Rome
X-LIC-LOCATION:Europe/Rome
BEGIN:STANDARD
DTSTART:20251026T020000
TZOFFSETFROM:+0200
TZOFFSETTO:+0100
TZNAME:CET
END:STANDARD
END:VTIMEZONE
END:VCALENDAR