BEGIN:VCALENDAR
VERSION:2.0
PRODID:-//wp-events-plugin.com//6.3//EN
TZID:Europe/Rome
X-WR-TIMEZONE:Europe/Rome
BEGIN:VEVENT
UID:0-154@chiesadimilano.it
DTSTART;TZID=Europe/Rome;VALUE=DATE:20230924
DTEND;TZID=Europe/Rome;VALUE=DATE:20230925
DTSTAMP:20230919T100922Z
URL:https://www.chiesadimilano.it/eventi/milano-riprendono-le-visite-guida
 te-gratuite-alla-antica-chiesina-rossa
SUMMARY:Milano: riprendono le visite guidate gratuite alla antica “Chiesi
 na Rossa”
DESCRIPTION:Dopo la pausa estiva riprendono a grande richiesta le visite gu
 idate a Santa Maria alla Fonte\, l'antica e preziosa "Chiesina Rossa" dei 
 milanesi lungo l'Alzaia Naviglio Pavese.\nL'iniziativa fa parte di una ser
 ie di eventi culturali e musicali promossi dalla nuova rettoria della comu
 nità dei Frati Cappuccini\, presente qui dal 2009.\n\nDomenica 24 settemb
 re alle ore 15\,30\, la prof.ssa Enrica Garlati\, presidente del Comitato 
 Chiesa Rossa e docente di storia\, condurrà i partecipanti alla scoperta 
 delle vestigia e delle opere d'arte dell'antico luogo di culto\, capolavor
 o neoromanico del X secolo sorto sopra le fondamenta di un sacello paleocr
 istiano.\n\nIl ritrovo è proprio davanti al cancello del parco omonimo do
 ve si accede al complesso\, in via Chiesa Rossa 55 (Metro Abbiategrasso).\
 n\nPer approfondire:\nRicostruita e restaurata più volte nel corso dei se
 coli\, notiﬁcata come edificio di notevole interesse artistico dal 1911 
 e dichiarata monumento nazionale nel 1928\, oggi Santa Maria alla Fonte va
 nta un valore storico inestimabile ed è meta di pellegrinaggi di preghier
 a per la testimonianza di vita evangelica e fraterna dei religiosi che l
 ’hanno in cura. Non solo: la presenza di un affresco\, del 1400\, che ri
 produce la miracolosa Madonna del latte\, ne ha fatto un richiamo importan
 te per la devozione mariana.\n\nL’occasione darà modo anche di scoprire
 \, per chi ancora non ne fosse al corrente\, l’ampio complesso\, immerso
  nel verde\, che comprende il luogo di culto\, due antichi cascinali e alt
 ri ‘ruderi’ ora ristrutturati e adibiti a moderna biblioteca civica mu
 ltimediale e bar affacciato su un ampio gradevole portico aperto.
ATTACH;FMTTYPE=image/jpeg:https://www.chiesadimilano.it/wp-content/uploads
 /sites/83/2023/09/chiesa-santa-maria-alla-fonte-milano-433-1-1.jpg
LOCATION:Santa Maria alla Fonte\, via Chiesa Rossa 55\, Milano\, Lombardia\
 , 20142\, Milano\, Italia
GEO:45.431291;9.17284
X-APPLE-STRUCTURED-LOCATION;VALUE=URI;X-ADDRESS=via Chiesa Rossa 55\, Milan
 o\, Lombardia\, 20142\, Milano\, Italia;X-APPLE-RADIUS=100;X-TITLE=Santa M
 aria alla Fonte:geo:45.431291,9.17284
END:VEVENT
BEGIN:VTIMEZONE
TZID:Europe/Rome
X-LIC-LOCATION:Europe/Rome
BEGIN:DAYLIGHT
DTSTART:20230326T030000
TZOFFSETFROM:+0100
TZOFFSETTO:+0200
TZNAME:CEST
END:DAYLIGHT
END:VTIMEZONE
END:VCALENDAR