BEGIN:VCALENDAR
VERSION:2.0
PRODID:-//wp-events-plugin.com//6.3//EN
TZID:Europe/Rome
X-WR-TIMEZONE:Europe/Rome
BEGIN:VEVENT
UID:0-2718@chiesadimilano.it
DTSTART;TZID=Europe/Rome;VALUE=DATE:20260428
DTEND;TZID=Europe/Rome;VALUE=DATE:20260429
DTSTAMP:20260422T093156Z
URL:https://www.chiesadimilano.it/eventi/milano-reading-con-poretti-e-cris
 tofori-per-presentare-la-messa-delluomo-disarmato-di-luisito-bianchi
SUMMARY:Milano\, reading con Poretti e Cristofori per presentare “La mess
 a dell’uomo disarmato” di Luisito Bianchi
DESCRIPTION:Torna in libreria La messa dell’uomo disarmato (Edizioni Ares
 \, pp. 864\, euro 25)\, il grande affresco storico di don Luisito Bianchi 
 (1927 - 2012) dedicato alla Resistenza che all’epoca della sua prima usc
 ita (1989) si rivelò un vero caso letterario per l’ampiezza della ricog
 nizione storica e l’inconfondibile stile a un tempo concretissimo e sogn
 ante.\nIl libro verrà presentato in anteprima martedì 28 aprile alle 18
 .30 al Teatro degli Angeli (via P. Colletta\, 21 – Milano) con un read
 ing teatrale di Daniela Cristofori e Giacomo Poretti e gli interventi
  dello scrittore Luca Doninelli e di Alessandro Rivali\, direttore edit
 oriale delle Edizioni Ares.\nIngresso su prenotazione (posti in esaurime
 nto).\nLa messa dell’uomo disarmato è una storia corale che per felici
 tà di scrittura e capacità di rievocazione ricorda la tradizione più no
 bile del romanzo storico\, quella di Manzoni\, Bacchelli\, Fenoglio o Eug
 enio Corti.\n\nÈ un “romanzo mondo” ambientato nella pianura padana l
 acerata dalla Seconda guerra mondiale\; a narrarla\, la limpida voce di F
 ranco\, novizio che abbandona anzitempo la sua abbazia. Franco sarà testi
 mone dei drammi successivi all’armistizio dell’8 settembre 1943: la di
 scesa dei tedeschi\, i rastrellamenti\, la lotta partigiana\, il sangue de
 gli innocenti\; conoscerà personaggi indimenticabili\; e imparerà\, come
  tutti i suoi amici\, quanto sia difficile restare uomini di fronte alle s
 celte estreme imposte dalla guerra.\nLa messa dell’uomo disarmato è an
 che un autentico caso letterario\, circolato “di amicizia in amicizia”
  in edizione autoprodotta tra il 1989 e il 1995 e poi felicemente approdat
 o all’editore Sironi nel 2002. È il ricordo lirico di un mondo rurale
  che non c’è più\, di nebbie e campi a perdita d’occhio\, di ruscel
 li e cascine\, di persone miti e laboriose\, ma è soprattutto la storia 
 epica e attualissima di uomini che credono nella libertà e nella pieta
 s anche quando il mondo sembra avvolto dalle tenebre.\n\nDon Luisito Bian
 chi (Vescovato\, 1927 – Melegnano\, 2012) visse il periodo della guerra
  e della Resistenza di cui divenne testimone appassionato. Fu ordinato sac
 erdote della diocesi di Cremona nel 1950\, si laureò in Scienze Politiche
  all’Università Cattolica di Milano e fu assistente provinciale e centr
 ale delle Acli. Ottenuto dal suo vescovo il permesso\, lavorò come operai
 o alla Montecatini di Spinetta Marengo e\, in seguito\, come benzinaio\, i
 nserviente d’ospedale e traduttore. Dal 1976 fu cappellano del monastero
  benedettino di Viboldone (Milano) fino alla morte. La sua produzione lett
 eraria è vastissima: La messa dell’uomo disarmato è il suo capolavor
 o.
ATTACH;FMTTYPE=image/jpeg:https://www.chiesadimilano.it/wp-content/uploads
 /sites/83/2026/04/f841788d-d866-fe5e-5dbf-6c8227ffb6b4.png
CATEGORIES:In evidenza
LOCATION:Teatro degli Angeli\, Via Pietro Colletta\, 21\, Milano\, Lombardi
 a\, 20135\, Milano\, Italia
GEO:45.450217;9.20853
X-APPLE-STRUCTURED-LOCATION;VALUE=URI;X-ADDRESS=Via Pietro Colletta\, 21\, 
 Milano\, Lombardia\, 20135\, Milano\, Italia;X-APPLE-RADIUS=100;X-TITLE=Te
 atro degli Angeli:geo:45.450217,9.20853
END:VEVENT
BEGIN:VTIMEZONE
TZID:Europe/Rome
X-LIC-LOCATION:Europe/Rome
BEGIN:DAYLIGHT
DTSTART:20260329T030000
TZOFFSETFROM:+0100
TZOFFSETTO:+0200
TZNAME:CEST
END:DAYLIGHT
END:VTIMEZONE
END:VCALENDAR