BEGIN:VCALENDAR
VERSION:2.0
PRODID:-//wp-events-plugin.com//6.3//EN
TZID:Europe/Rome
X-WR-TIMEZONE:Europe/Rome
BEGIN:VEVENT
UID:0-1643@chiesadimilano.it
DTSTART;TZID=Europe/Rome:20250210T000000
DTEND;TZID=Europe/Rome:20250210T000000
DTSTAMP:20250207T105325Z
URL:https://www.chiesadimilano.it/eventi/milano-in-statale-la-mostra-la-be
 llezza-dellimperfezione
SUMMARY:Milano\, in Statale la mostra “La bellezza dell'imperfezione”
DESCRIPTION:Sarà inaugurata lunedì 10 febbraio la mostra fotografica «La
  bellezza dell'imperfezione»\, Ideato e curato dal Gruppo di Lavoro Adole
 scenti dell’Associazione Italiana di Ematologia e Oncologia Pediatrica. 
 Un progetto fotografico realizzato dai pazienti adolescenti in cura nei ce
 ntri italiani di ematologia e oncologia pediatrica.\nAppuntamento alle ore
  10.30 nella Sala di rappresentanza dell'Università Statale di Milano\, v
 ia Festa del Perdono\, 7\nSaluti istituzionali di Marina Brambilla\, rettr
 ice Università degli Studi di Milano\nIntervengono:\n- Gianluca Vago\, di
 rettore Dipartimento Oncologia e Emato-Oncologia Università degli Studi d
 i Milano\n- Andrea Ferrari\, docente di Oncologia medica Università degli
  Studi di Milano\, Istituto Nazionale dei Tumori di Milano\, Coordinatore 
 del Gruppo di Lavoro AIEOP\n- E alcuni ragazzi e ragazze coinvolti nel pro
 getto fotografico\nLa mostra continuerà dal 10 al 26 febbraio 2025 presso
  il Loggiato del Rettorato\, Università Statale\, via Festa del Perdono\,
  7. \nVisibile da lunedì a venerdì ore 9.00 – 19.00
ATTACH;FMTTYPE=image/jpeg:https://www.chiesadimilano.it/wp-content/uploads
 /sites/83/2025/02/16x1144_mostra_labellezzadellimperfezione.jpg
CATEGORIES:In evidenza
LOCATION:Università degli Studi di Milano\, Via Festa del Perdono\, 7\, Mi
 lano\, Lombardia\, 20122\, Milano\, Italia
GEO:45.460063;9.194662
X-APPLE-STRUCTURED-LOCATION;VALUE=URI;X-ADDRESS=Via Festa del Perdono\, 7\,
  Milano\, Lombardia\, 20122\, Milano\, Italia;X-APPLE-RADIUS=100;X-TITLE=U
 niversità degli Studi di Milano:geo:45.460063,9.194662
END:VEVENT
BEGIN:VTIMEZONE
TZID:Europe/Rome
X-LIC-LOCATION:Europe/Rome
BEGIN:STANDARD
DTSTART:20241027T020000
TZOFFSETFROM:+0200
TZOFFSETTO:+0100
TZNAME:CET
END:STANDARD
END:VTIMEZONE
END:VCALENDAR