BEGIN:VCALENDAR
VERSION:2.0
PRODID:-//wp-events-plugin.com//6.3//EN
TZID:Europe/Rome
X-WR-TIMEZONE:Europe/Rome
BEGIN:VEVENT
UID:0-2351@chiesadimilano.it
DTSTART;TZID=Europe/Rome:20251214T000000
DTEND;TZID=Europe/Rome:20251214T000000
DTSTAMP:20251127T102443Z
URL:https://www.chiesadimilano.it/eventi/milano-concerto-natalizio-nella-c
 hiesa-di-santa-maria-nascente-al-qt8
SUMMARY:Milano\, Concerto natalizio nella chiesa di Santa Maria Nascente al
  QT8
DESCRIPTION:Il 14 dicembre alle ore 16\, nella chiesa di Santa Maria Nascen
 te al QT8 di Milano\, potremo ascoltare tre opere di grande rilievo storic
 o e spirituale: il Gloria in Re maggiore RV 589 di Antonio Vivaldi\, la So
 nata in Re maggiore TWV 44:1 per tromba\, archi e continuo di Georg Philip
 p Telemann e il Trittico Alfonsiano di Antonio Eros Negri\, per soli\, dop
 pio coro e strumenti barocchi.\nLa direzione sarà affidata a Satomi Hotta
 \, alla guida dell’Ensemble\, Schola &amp\; Consort KOE\, della Schola C
 antorum del Conservatorio di Como e dei giovani solisti coinvolti.\nIl Glo
 ria RV 589 di Vivaldi\, scritto per le musiciste dell’Ospedale della Pie
 tà\, è una delle pagine sacre più riconoscibili del Settecento venezian
 o\, sintesi di intensità liturgica\, teatralità e raffinatezza timbrica.
 \nLa Sonata in Re maggiore TWV 44:1 di Telemann\, articolata in tre movime
 nti\, mette in dialogo la tromba naturale con gli archi secondo una sintes
 i elegante tra gusto francese e italiano\, caratteristica della piena matu
 rità del compositore.\nIl Trittico Alfonsiano\, composto da Antonio Eros 
 Negri\, propone una lettura musicale nuova e approfondita di tre celebri t
 esti poetici di sant’Alfonso Maria de’ Liguori\, vescovo\, teologo e d
 ottore della Chiesa — Quanno nascette Ninno\, Fermarono i cieli e Tu sce
 ndi dalle stelle. La scrittura\, ampia e articolata\, valorizza la dimensi
 one simbolica e spirituale dei testi attraverso un contrappunto limpido\, 
 una tessitura vocale accurata e un uso misurato delle dissonanze\, in un i
 mpianto formale coerente e controllato.\nKOE — termine giapponese che si
 gnifica “voce” — è una realtà milanese attiva nella musica antica 
 con strumenti storici e nella musica contemporanea. Fondata da Satomi Hott
 a e Antonio Eros Negri\, collabora stabilmente con il maestro organaro Wal
 ter Chinaglia. Per questa occasione saranno presenti anche alcuni Pueri Ca
 ntores del coro di voci bianche di Santa Maria Nascente.\nL’attività di
  KOE è resa possibile anche grazie alle donazioni liberali del pubblico e
  dei sostenitori\, che ne sostengono con generosità il percorso artistico
  e culturale.
ATTACH;FMTTYPE=image/jpeg:https://www.chiesadimilano.it/wp-content/uploads
 /sites/83/2025/11/trumpet-7774590_1280.jpg
LOCATION:Santa Maria Nascente al QT8\, Piazza Santa Maria Nascente 2\, Mila
 no\, Lombardia\, 20148\, Milano\, Italia
GEO:45.48628;9.138196
X-APPLE-STRUCTURED-LOCATION;VALUE=URI;X-ADDRESS=Piazza Santa Maria Nascente
  2\, Milano\, Lombardia\, 20148\, Milano\, Italia;X-APPLE-RADIUS=100;X-TIT
 LE=Santa Maria Nascente al QT8:geo:45.48628,9.138196
END:VEVENT
BEGIN:VTIMEZONE
TZID:Europe/Rome
X-LIC-LOCATION:Europe/Rome
BEGIN:STANDARD
DTSTART:20251026T020000
TZOFFSETFROM:+0200
TZOFFSETTO:+0100
TZNAME:CET
END:STANDARD
END:VTIMEZONE
END:VCALENDAR