BEGIN:VCALENDAR
VERSION:2.0
PRODID:-//wp-events-plugin.com//6.3//EN
TZID:Europe/Rome
X-WR-TIMEZONE:Europe/Rome
BEGIN:VEVENT
UID:0-2663@chiesadimilano.it
DTSTART;TZID=Europe/Rome;VALUE=DATE:20260427
DTEND;TZID=Europe/Rome;VALUE=DATE:20260428
DTSTAMP:20260330T085527Z
URL:https://www.chiesadimilano.it/eventi/milano-concerto-del-glass-quartet
 -a-sostegno-di-medici-con-lafrica-cuamm
SUMMARY:Milano\, concerto del Glass Quartet a sostegno di Medici con l'Afri
 ca Cuamm
DESCRIPTION:Lunedì 27 aprile alle 19.15\, il Teatro Kolbe di viale Corsica
  in Milano ospiterà un evento musicale con il Glass Quartet\, un quartett
 o d’archi composto da giovani musicisti che hanno scelto di dedicare il 
 loro concerto a Medici con l’Africa. Un gesto che racchiude vicinanza e 
 condivisione all'operato del Cuamm.\nL’ingresso è libero\; sarà tuttav
 ia gradita un’offerta a favore del progetto che Cuamm sta realizzando in
  Uganda\, nella regione del Karamoja\, duramente colpita dai recenti tagli
  ai finanziamenti USAID.\nIl progetto prevede la ristrutturazione del Kari
 ta Health Centre\, dotato di sala operatoria e sala parto\, struttura part
 e del sistema sanitario nazionale ugandese. \nL’intervento di Cuamm ha l
 ’obiettivo di restituire piena funzionalità al centro e accompagnarne p
 rogressivamente la gestione ai sanitari locali.\nCuamm\, lo ricordiamo\, 
 è la prima ONG italiana in ambito sanitario\, attiva da 75 anni in Africa
  per il diritto alla salute\, con particolare attenzione a mamme e bambini
 . Con oltre 3.000 operatori\, di cui 320 italiani\, CUAMM opera in 9 Paesi
  africani\, gestendo 23 grandi ospedali e centinaia di centri sanitari.
ATTACH;FMTTYPE=image/jpeg:https://www.chiesadimilano.it/wp-content/uploads
 /sites/83/2026/03/glass-quartet.jpg
LOCATION:Caboto Teatro Kolbe\, Viale Corsica 68\, Milano\, Lombardia\, 2013
 7\, Milano\, Italia
GEO:45.462039;9.232841
X-APPLE-STRUCTURED-LOCATION;VALUE=URI;X-ADDRESS=Viale Corsica 68\, Milano\,
  Lombardia\, 20137\, Milano\, Italia;X-APPLE-RADIUS=100;X-TITLE=Caboto Tea
 tro Kolbe:geo:45.462039,9.232841
END:VEVENT
BEGIN:VTIMEZONE
TZID:Europe/Rome
X-LIC-LOCATION:Europe/Rome
BEGIN:DAYLIGHT
DTSTART:20260329T030000
TZOFFSETFROM:+0100
TZOFFSETTO:+0200
TZNAME:CEST
END:DAYLIGHT
END:VTIMEZONE
END:VCALENDAR