BEGIN:VCALENDAR
VERSION:2.0
PRODID:-//wp-events-plugin.com//6.3//EN
TZID:Europe/Rome
X-WR-TIMEZONE:Europe/Rome
BEGIN:VEVENT
UID:0-2345@chiesadimilano.it
DTSTART;TZID=Europe/Rome:20251213T000000
DTEND;TZID=Europe/Rome:20251213T000000
DTSTAMP:20251125T135725Z
URL:https://www.chiesadimilano.it/eventi/milano-al-casoretto-il-concerto-d
 i-natale-del-gruppo-corale-canticum-96
SUMMARY:Milano\, al Casoretto il concerto di Natale del Gruppo Corale Canti
 cum 96
DESCRIPTION:Sabato 13 dicembre alle ore 20.45\, presso l’abbazia di S. Ma
 ria Bianca della Misericordia\, si terrà il Concerto di Natale diretto da
 l maestro Adriano Barbieri Torriani\, con il soprano\nsolista Maria Luisa 
 Casali\, la pianista Marta Ceretta e il Gruppo Corale Canticum 96.\nDurant
 e il concerto verranno eseguiti brani di J.S. Bach\, F. Himmel\, G. Holst\
 , J. Rutter\, G. Susana\, A. Adam e brani della tradizione popolare natali
 zia.\n\nIngresso con offerta libera a sostegno delle attività culturali d
 ell’Abbazia di Casoretto.\n\nS. Maria Bianca della Misericordia in Casor
 etto fa parte di un antico complesso abbaziale risalente al 1404\, quando 
 il nobile Pietro Tanzi affidò la cappella della sua proprietà ai Canonic
 i Lateranensi di S. Maria della Frigionaia di Lucca. Dopo alterne vicende 
 e periodi di abbandono (a partire dall’epoca napoleonica) l’abbazia è
  divenuta parrocchia agli inizi del ‘900. È guidata dal 2019 da don Enr
 ico Parazzoli.
ATTACH;FMTTYPE=image/jpeg:https://www.chiesadimilano.it/wp-content/uploads
 /sites/83/2024/12/Adriano-64schiarito.jpg
CATEGORIES:In evidenza
LOCATION:S. Maria Bianca della Misericordia\, Piazza S. Materno\, 5\, Milan
 o\, Lombardia\, 20131\, Milano\, Italia
GEO:45.488932;9.226674
X-APPLE-STRUCTURED-LOCATION;VALUE=URI;X-ADDRESS=Piazza S. Materno\, 5\, Mil
 ano\, Lombardia\, 20131\, Milano\, Italia;X-APPLE-RADIUS=100;X-TITLE=S. Ma
 ria Bianca della Misericordia:geo:45.488932,9.226674
END:VEVENT
BEGIN:VTIMEZONE
TZID:Europe/Rome
X-LIC-LOCATION:Europe/Rome
BEGIN:STANDARD
DTSTART:20251026T020000
TZOFFSETFROM:+0200
TZOFFSETTO:+0100
TZNAME:CET
END:STANDARD
END:VTIMEZONE
END:VCALENDAR