BEGIN:VCALENDAR
VERSION:2.0
PRODID:-//wp-events-plugin.com//6.3//EN
TZID:Europe/Rome
X-WR-TIMEZONE:Europe/Rome
BEGIN:VEVENT
UID:0-2714@chiesadimilano.it
DTSTART;TZID=Europe/Rome:20260426T000000
DTEND;TZID=Europe/Rome:20260510T000000
DTSTAMP:20260420T094231Z
URL:https://www.chiesadimilano.it/eventi/merate-accoglie-madonna-pellegrin
 a-di-fatima
SUMMARY:Merate accoglie la Madonna pellegrina di Fatima
DESCRIPTION:Il prossimo 26 aprile la Chiesa di Merate e tutta la città viv
 ranno un momento di "Grazia" particolare. Con l'elicottero\, all'ospedale 
 san Leopoldo Mandic\, alle ore 17.30\, giungerà il simulacro della Madonn
 a Pellegrina di Fatima. Alle ore 18.00 Messa solenne presieduta dal Cardin
 al Giuseppe Versaldi e concelebrata dai sacerdoti.\nSosterà per la preghi
 era di tutti e l'invocazione fino a domenica 10 maggio\, quando partirà p
 er Firenze.\n«E' un'occasione particolare per affidare la nostra Città\,
  le nostre famiglie e soprattutto ragazzi\, adolescenti e giovani alla sua
  materna cura - spiega il parroco don Mauro Malighetti -. La invocheremo p
 erché\, Regina della Pace\, ponga fine alle guerre che insanguinano il no
 stro pianeta e doni la pace. Sarà anche un momento 'disteso’ di celebra
 zioni per accrescere ed approfondire il nostro cammino di fede.\nIn questo
  tempo pasquale chiediamo a Maria di essere condotti\, con la sua maternit
 à\, a 'vivere' la comunione con il Figlio suo Gesù!».\nDal 26 aprile al
  2 maggio sarà "pellegrina" nelle parrocchie di Novate\, Sartirana\, Pagn
 ano ed al convento di Sabbioncello\; \nda domenica 3 maggio\, sino alla pa
 rtenza\, sarà in chiesa Prepositurale di sant'Ambrogio.\n&nbsp\;
ATTACH;FMTTYPE=image/jpeg:https://www.chiesadimilano.it/wp-content/uploads
 /sites/83/2026/04/madonna-fatima-scaled.jpg
END:VEVENT
BEGIN:VTIMEZONE
TZID:Europe/Rome
X-LIC-LOCATION:Europe/Rome
BEGIN:DAYLIGHT
DTSTART:20260329T030000
TZOFFSETFROM:+0100
TZOFFSETTO:+0200
TZNAME:CEST
END:DAYLIGHT
END:VTIMEZONE
END:VCALENDAR