BEGIN:VCALENDAR
VERSION:2.0
PRODID:-//wp-events-plugin.com//6.3//EN
TZID:Europe/Rome
X-WR-TIMEZONE:Europe/Rome
BEGIN:VEVENT
UID:0-488@chiesadimilano.it
DTSTART;TZID=Europe/Rome:20240125T000000
DTEND;TZID=Europe/Rome:20240125T000000
DTSTAMP:20240108T133250Z
URL:https://www.chiesadimilano.it/eventi/maternita-surrogata-se-ne-parla-i
 n-un-incontro-promosso-dal-movimento-per-la-vita-ambrosiano
SUMMARY:Maternità surrogata: se ne parla in un incontro promosso dal Movim
 ento per la vita ambrosiano
DESCRIPTION:Il Movimento per la vita ambrosiano\, in collaborazione con la 
 parrocchia di San Gaetano di Milano e grazie all'interessamento del decana
 to Cagnola - Gallaratese - Quarto Oggiaro organizza per il 25 gennaio alle
  21 un incontro su un tema di grandissima attualità: la maternità surrog
 ata.\nIl dibattito è tenuto vivo dai continui casi riguardanti la trascri
 zione all'anagrafe di bambini nati all'estero.\nSE ne parlerà con Elena C
 anzi\, Maria Letizia Mannella e don Alberto Frigerio.\nModera l'incontro S
 tefano Di Battista.
ATTACH;FMTTYPE=image/jpeg:https://www.chiesadimilano.it/wp-content/uploads
 /sites/83/2022/02/MilImg_193_141420_291140_20220218115108_2.jpg
LOCATION:Istituto San Gaetano\, Via Mac Mahon 92\, Milano\, Lombardia\, 201
 55\, Milano\, Italia
GEO:45.494021;9.158091
X-APPLE-STRUCTURED-LOCATION;VALUE=URI;X-ADDRESS=Via Mac Mahon 92\, Milano\,
  Lombardia\, 20155\, Milano\, Italia;X-APPLE-RADIUS=100;X-TITLE=Istituto S
 an Gaetano:geo:45.494021,9.158091
END:VEVENT
BEGIN:VTIMEZONE
TZID:Europe/Rome
X-LIC-LOCATION:Europe/Rome
BEGIN:STANDARD
DTSTART:20231029T020000
TZOFFSETFROM:+0200
TZOFFSETTO:+0100
TZNAME:CET
END:STANDARD
END:VTIMEZONE
END:VCALENDAR