BEGIN:VCALENDAR
VERSION:2.0
PRODID:-//wp-events-plugin.com//6.3//EN
TZID:Europe/Rome
X-WR-TIMEZONE:Europe/Rome
BEGIN:VEVENT
UID:0-2717@chiesadimilano.it
DTSTART;TZID=Europe/Rome:20260507T000000
DTEND;TZID=Europe/Rome:20260507T000000
DTSTAMP:20260421T105424Z
URL:https://www.chiesadimilano.it/eventi/limpegno-per-una-pace-disarmata-e
 -le-sfide-allumano-nellera-dellintelligenza-artificiale
SUMMARY:L'impegno per una «pace disarmata» e le sfide all'umano nell'era 
 dell'intelligenza artificiale
DESCRIPTION:Giovedì 7 maggio alle 10\, presso la sede della Fondazione Amb
 rosianeum a Milano si terrà un incontro organizzato da Ucsi Lombardia\, a
  un anno dall'elezione di Papa Leone\, intitolato «L'impegno per una “p
 ace disarmata” e le sfide all'umano nell'era dell'intelligenza artificia
 le». Attraverso gli interventi di giornalisti ed esperti\, saranno approf
 onditi il significato del pontificato nel contesto attuale\, il ruolo dell
 ’informazione nella promozione della pace e le responsabilità deontolog
 iche legate alle nuove tecnologie.\nProgramma:\nSaluti iniziali: \nGiusepp
 e Caffulli\, giornalista\, presidente Ucsi Lombardia\nLo sguardo su un ann
 o di Pontificato\nStefano Stimamiglio\, giornalista\, direttore di Famigli
 a cristiana\nParole di pace contro ogni tipo di guerra\nAlberto Chiara\, g
 iornalista\, già caporedattore di Famiglia cristiana\nLe sfide deontologi
 che dell'Intelligenza artificiale e il messaggio di Papa Leone sull'«alle
 anza possibile»\nGigio Rancilio\, già giornalista di Avvenire\nIscrizion
 i sulla piattaforma formazionegiornalisti.it
ATTACH;FMTTYPE=image/jpeg:https://www.chiesadimilano.it/wp-content/uploads
 /sites/83/2026/02/VaticanMedia_SIR_-2048x1365-1.jpg
CATEGORIES:In evidenza
LOCATION:Fondazione Ambrosianeum\,  Via delle Ore\, 3 \, Milano\, Lombardia
 \, 20122\, Milano\, Italia
GEO:45.462894;9.19256
X-APPLE-STRUCTURED-LOCATION;VALUE=URI;X-ADDRESS= Via delle Ore\, 3 \, Milan
 o\, Lombardia\, 20122\, Milano\, Italia;X-APPLE-RADIUS=100;X-TITLE=Fondazi
 one Ambrosianeum:geo:45.462894,9.19256
END:VEVENT
BEGIN:VTIMEZONE
TZID:Europe/Rome
X-LIC-LOCATION:Europe/Rome
BEGIN:DAYLIGHT
DTSTART:20260329T030000
TZOFFSETFROM:+0100
TZOFFSETTO:+0200
TZNAME:CEST
END:DAYLIGHT
END:VTIMEZONE
END:VCALENDAR