BEGIN:VCALENDAR
VERSION:2.0
PRODID:-//wp-events-plugin.com//6.3//EN
TZID:Europe/Rome
X-WR-TIMEZONE:Europe/Rome
BEGIN:VEVENT
UID:0-2720@chiesadimilano.it
DTSTART;TZID=Europe/Rome:20260513T000000
DTEND;TZID=Europe/Rome:20260513T000000
DTSTAMP:20260422T133043Z
URL:https://www.chiesadimilano.it/eventi/lella-costa-legge-don-milani
SUMMARY:Lella Costa legge don Milani
DESCRIPTION:Mercoledì 13 maggio alle 21\, presso il Teatro San Giovanni Bo
 sco di Milano\,  l'attrice Lella Costa leggerà la celebre "Lettera ai gi
 udici" di Don Lorenzo Milani\, un'autodifesa del 1965 che difende l'obiezi
 one di coscienza e l'obbedienza alla coscienza rispetto alle leggi ingiust
 e.\nL'iniziativa si inserisce nell'ambito di una serie di incontri cultura
 li di approfondimento organizzata dalla parrocchia San Giovanni Bosco per 
 ripercorrere i valori di San Francesco.\nIntervengono don Giovanni Salatin
 o e Roberta Biagiarella.\n&nbsp\;
ATTACH;FMTTYPE=image/jpeg:https://www.chiesadimilano.it/wp-content/uploads
 /sites/83/2024/12/Lella-Costa_ph-Serena-Serrani-scaled-e1733309044742.jpg
LOCATION:Teatro San Giovanni Bosco\, Via Mar Nero 10\, Milano\, Lombardia\,
  20152\, Milano\, Italia
GEO:45.457581;9.104626
X-APPLE-STRUCTURED-LOCATION;VALUE=URI;X-ADDRESS=Via Mar Nero 10\, Milano\, 
 Lombardia\, 20152\, Milano\, Italia;X-APPLE-RADIUS=100;X-TITLE=Teatro San 
 Giovanni Bosco:geo:45.457581,9.104626
END:VEVENT
BEGIN:VTIMEZONE
TZID:Europe/Rome
X-LIC-LOCATION:Europe/Rome
BEGIN:DAYLIGHT
DTSTART:20260329T030000
TZOFFSETFROM:+0100
TZOFFSETTO:+0200
TZNAME:CEST
END:DAYLIGHT
END:VTIMEZONE
END:VCALENDAR