BEGIN:VCALENDAR
VERSION:2.0
PRODID:-//wp-events-plugin.com//6.3//EN
TZID:Europe/Rome
X-WR-TIMEZONE:Europe/Rome
BEGIN:VEVENT
UID:0-2371@chiesadimilano.it
DTSTART;TZID=Europe/Rome;VALUE=DATE:20251213
DTEND;TZID=Europe/Rome;VALUE=DATE:20251214
DTSTAMP:20251209T115238Z
URL:https://www.chiesadimilano.it/eventi/lectio-divina-sul-libro-del-profe
 ta-geremia-procurati-capestri-e-un-giogo-e-mettili-al-collo-ger-272
SUMMARY:Lectio divina sul Libro del profeta Geremia: «Procùrati capestri 
 e un giogo e mettili al collo» (Ger 27\,2)
DESCRIPTION:Prosegue il cammino di lectio divina del MEIC di Milano dedicat
 o al Libro del profeta Geremia.\nIl prossimo incontro sarà incentrato sul
  cap. 27: qui il profeta è chiamato a compiere gesti simbolici\, rivelato
 ri della verità dei fatti che stanno accadendo. C’è una correlazione t
 ra il gesto e la verità\, mentre i gesti umani spesso vogliono mistificar
 e e occultare\, come denuncia Geremia. Quante volte\, anche oggi\, gesti c
 he sembrano di pace nascondono in realtà una volontà di guerra e di sopr
 affazione! Il gesto profetico è così rivelazione\, è l’azione attrave
 rso cui Dio realizza la verità per chi ha il coraggio di accoglierla.\nL
 ’appuntamento è per sabato 13 dicembre alle 15 presso il salone della C
 hiesa di San Giorgio al Palazzo (Piazza San Giorgio 2\, Milano). L’incon
 tro si concluderà con la celebrazione eucaristica vigiliare nella chiesa 
 di San Giorgio al Palazzo alle ore 17 presieduta dal nostro assistente\, d
 on Luigi Galli.
ATTACH;FMTTYPE=image/jpeg:https://www.chiesadimilano.it/wp-content/uploads
 /sites/83/2025/12/San-Giorgio-al-Palazzo.jpg
LOCATION:Chiesa di San Giorgio al Palazzo\, Piazza San Giorgio 2\, Milano\,
  Lombardia\, 20123\, Milano\, Italia
GEO:45.461137;9.183713
X-APPLE-STRUCTURED-LOCATION;VALUE=URI;X-ADDRESS=Piazza San Giorgio 2\, Mila
 no\, Lombardia\, 20123\, Milano\, Italia;X-APPLE-RADIUS=100;X-TITLE=Chiesa
  di San Giorgio al Palazzo:geo:45.461137,9.183713
END:VEVENT
BEGIN:VTIMEZONE
TZID:Europe/Rome
X-LIC-LOCATION:Europe/Rome
BEGIN:STANDARD
DTSTART:20251026T020000
TZOFFSETFROM:+0200
TZOFFSETTO:+0100
TZNAME:CET
END:STANDARD
END:VTIMEZONE
END:VCALENDAR