BEGIN:VCALENDAR
VERSION:2.0
PRODID:-//wp-events-plugin.com//6.3//EN
TZID:Europe/Rome
X-WR-TIMEZONE:Europe/Rome
BEGIN:VEVENT
UID:0-1533@chiesadimilano.it
DTSTART;TZID=Europe/Rome:20250117T000000
DTEND;TZID=Europe/Rome:20250117T000000
DTSTAMP:20250113T102911Z
URL:https://www.chiesadimilano.it/eventi/le-grande-avventura-il-coraggio-e
 ducare-ne-parla-don-alliata-a-locate-di-triulzi
SUMMARY:Il coraggio educare: don Alliata a Locate di Triulzi per il 115° a
 nniversario della scuola dell'infanzia
DESCRIPTION:Il 2024 è stato un anno speciale per l’ente educativo “Pri
 ncipessa Cristina di Belgioioso - ETS”: la scuola dell’infanzia di Loc
 ate di Triulzi (Mi) ha festeggiato il suo 115° anniversario (1909-2024).\
 nUna scuola paritaria di ispirazione cattolica che si pone al servizio del
 le famiglie per favorire la crescita armonica dei suoi piccoli alunni. Off
 re ai bambini e alle famiglie un ambiente educativo stimolante e confortev
 ole garantendo una elevata professionalità didattica unita a sensibilità
  e amorevolezza da parte di tutta la comunità scolastica.\n\nPer festeggi
 are questo grande traguardo sono stati pensati due momenti di festa: un co
 ncerto gospel dell’entusiasmante coro “UnāVoce” tenutosi lo scorso 
 Novembre\; e un momento di confronto\, riflessione e dialogo con don Paolo
  Alliata (Responsabile del Servizio per l’Apostolato Biblico della Dioce
 si di Milano e rettore del liceo Montini) che si terrà il prossimo 17 gen
 naio.\n\nLa serata dal titolo “La grande avventura: il coraggio di educa
 re” si terrà nella sala-teatro “L’oasi” in Piazza della Vittoria 
 12 a Locate di Triulzi (Mi).\nSarà questa occasione per festeggiare i 115
  anni della scuola e una possibilità preziosa per riflettere insieme a Do
 n Paolo\, che sarà relatore della serata\, sul delicato e sempre attuale 
 tema del coraggio di educare: la grande avventura di crescere in sapienza.
ATTACH;FMTTYPE=image/jpeg:https://www.chiesadimilano.it/wp-content/uploads
 /sites/83/2024/02/alliata.jpg
LOCATION:L’oasi\, Piazza della Vittoria 12\, Locate di Triulzi\, Lombardi
 a\, Milano\, Italia
GEO:45.35691;9.22516
X-APPLE-STRUCTURED-LOCATION;VALUE=URI;X-ADDRESS=Piazza della Vittoria 12\, 
 Locate di Triulzi\, Lombardia\, Milano\, Italia;X-APPLE-RADIUS=100;X-TITLE
 =L’oasi:geo:45.35691,9.22516
END:VEVENT
BEGIN:VTIMEZONE
TZID:Europe/Rome
X-LIC-LOCATION:Europe/Rome
BEGIN:STANDARD
DTSTART:20241027T020000
TZOFFSETFROM:+0200
TZOFFSETTO:+0100
TZNAME:CET
END:STANDARD
END:VTIMEZONE
END:VCALENDAR