BEGIN:VCALENDAR
VERSION:2.0
PRODID:-//wp-events-plugin.com//6.3//EN
TZID:Europe/Rome
X-WR-TIMEZONE:Europe/Rome
BEGIN:VEVENT
UID:0-2671@chiesadimilano.it
DTSTART;TZID=Europe/Rome:20260409T000000
DTEND;TZID=Europe/Rome:20260409T000000
DTSTAMP:20260402T083311Z
URL:https://www.chiesadimilano.it/eventi/la-corona-ferrea-tra-arte-storia-
 e-fede-un-racconto-di-un-oggetto-straordinario
SUMMARY:La Corona ferrea tra arte\, storia e fede: un racconto di un oggett
 o straordinario
DESCRIPTION:Pochi oggetti hanno il fascino della Corona ferrea custodita ne
 l Tesoro del Duomo di Monza\, che ha incoronato\, fra gli altri\, imperato
 ri come Federico Barbarossa e Napoleone. Ancora oggi tutti rimangono incan
 tati di fronte a questo antico e straordinario manufatto\, che rifulge del
 l'oro e delle pietre preziose\, ma soprattutto di secoli di storia: parlan
 do di potere e di gloria\, ma anche di fede e devozione\, tra sacro e prof
 ano.\nA questo straordinario cimelio sarà dedicato un incontro giovedì 9
  aprile\, alle 18.15\, a cura di Luca Frigerio\, giornalista e scrittore\,
  che ripercorrerà le vicende storiche della Corona ferrea (fino alle atte
 nzioni di Hitler)\, la sua origine misteriosa e il legame con la Passione 
 di Gesù. \nPartecipazione 5 euro: in presenza\, presso l'Auditorium San F
 edele a Milano (Galleria Hoepli\, 3) o in diretta online.\nPer informazion
 i e iscrizioni: sanfedele.net.
ATTACH;FMTTYPE=image/jpeg:https://www.chiesadimilano.it/wp-content/uploads
 /sites/83/2026/04/corona-ferrea-e1775118592879.jpg
CATEGORIES:In evidenza
LOCATION:Centro San Fedele\, Via Hoepli 3/b \, Milano\, Lombardia\, 20122\,
  Milano\, Italia
GEO:45.465976;9.192083
X-APPLE-STRUCTURED-LOCATION;VALUE=URI;X-ADDRESS=Via Hoepli 3/b \, Milano\, 
 Lombardia\, 20122\, Milano\, Italia;X-APPLE-RADIUS=100;X-TITLE=Centro San 
 Fedele:geo:45.465976,9.192083
END:VEVENT
BEGIN:VTIMEZONE
TZID:Europe/Rome
X-LIC-LOCATION:Europe/Rome
BEGIN:DAYLIGHT
DTSTART:20260329T030000
TZOFFSETFROM:+0100
TZOFFSETTO:+0200
TZNAME:CEST
END:DAYLIGHT
END:VTIMEZONE
END:VCALENDAR