BEGIN:VCALENDAR
VERSION:2.0
PRODID:-//wp-events-plugin.com//6.3//EN
TZID:Europe/Rome
X-WR-TIMEZONE:Europe/Rome
BEGIN:VEVENT
UID:0-2386@chiesadimilano.it
DTSTART;TZID=Europe/Rome;VALUE=DATE:20251218
DTEND;TZID=Europe/Rome;VALUE=DATE:20251219
DTSTAMP:20251216T134233Z
URL:https://www.chiesadimilano.it/eventi/la-chiesa-parrocchiale-di-monza-f
 esteggia-il-xxx-anniversario-della-sua-consacrazione
SUMMARY:La chiesa parrocchiale di Monza festeggia il XXX anniversario della
  sua consacrazione
DESCRIPTION:Occasione di festa\, ma anche di riflessione su un tema di fort
 e attualità come quello del rapporto tra uomo e fede. La chiesa parrocchi
 ale di Sant’Ambrogio di Monza festeggia il XXX anniversario della sua co
 nsacrazione con una serata in programma giovedì 18 dicembre alle 21 dal t
 itolo “La sfida della fede per l’uomo d’oggi”.\nSempre foriero di 
 continue stimolazioni alla riflessione e all’approfondimento\, l’argom
 ento sarà affrontato dal Copresidente del movimento dei Focolari Jesus Mo
 ran\, sacerdote e filosofo nonché profondo conoscitore della realtà del 
 continente americano e in particolar modo di Messico e Cile e dal teologo
  don Alberto Cozzi\, esponente della Commissione teologica internazionale 
 e autore di vari saggi e interventi sulla figura di Gesù Cristo e sul rap
 porto tra le religioni in chiave ecumenica e interreligiosa. Il dibattito 
 sarà moderato dalla giornalista Giulia Cazzaniga.\nCristiano Comelli 
ATTACH;FMTTYPE=image/jpeg:https://www.chiesadimilano.it/wp-content/uploads
 /sites/83/2025/12/Alberto-Cozzi.jpg
LOCATION:Chiesa parrocchiale di Sant’Ambrogio\, Via Giovanni Amendola 3\,
  Monza\, Lombardia\, 20900\, Monza e della Brianza\, Italia
GEO:45.5844;9.291256
X-APPLE-STRUCTURED-LOCATION;VALUE=URI;X-ADDRESS=Via Giovanni Amendola 3\, M
 onza\, Lombardia\, 20900\, Monza e della Brianza\, Italia;X-APPLE-RADIUS=1
 00;X-TITLE=Chiesa parrocchiale di Sant’Ambrogio:geo:45.5844,9.291256
END:VEVENT
BEGIN:VTIMEZONE
TZID:Europe/Rome
X-LIC-LOCATION:Europe/Rome
BEGIN:STANDARD
DTSTART:20251026T020000
TZOFFSETFROM:+0200
TZOFFSETTO:+0100
TZNAME:CET
END:STANDARD
END:VTIMEZONE
END:VCALENDAR