BEGIN:VCALENDAR
VERSION:2.0
PRODID:-//wp-events-plugin.com//6.3//EN
TZID:Europe/Rome
X-WR-TIMEZONE:Europe/Rome
BEGIN:VEVENT
UID:0-2669@chiesadimilano.it
DTSTART;TZID=Europe/Rome:20260426T000000
DTEND;TZID=Europe/Rome:20260426T000000
DTSTAMP:20260401T101123Z
URL:https://www.chiesadimilano.it/eventi/itinerari-catecumenali-per-la-vit
 a-matrimoniale-incontro-diocesano-a-seveso
SUMMARY:Itinerari catecumenali per la vita matrimoniale: incontro diocesano
  a Seveso per le coppie guida e i sacerdoti
DESCRIPTION:Il Servizio diocesano per la Famiglia propone un incontro forma
 tivo con workshop e laboratori specifici\, rivolto alle coppie guida e sac
 erdoti che accompagnano le coppie al matrimonio e nella vita matrimoniale\
 , con l’obiettivo di ampliare la conoscenza metodologica\, in ordine all
 o stile catecumenale.\nL’incontro si svolgerà nel pomeriggio di domenic
 a 26 aprile presso il Centro Pastorale di Seveso in Via S. Francesco\, 3
 .\n\nPer partecipare all’incontro occorre iscriversi entro la mattina di
  venerdì 24 aprile\, compilando la scheda di iscrizione che si trova qui.
 \nProgramma\n14.45: Accoglienza\n15.00: Il metodo laboratoriale: relatore 
 don Samuele Ferrari\n15.20: La conversazione nello Spirito: relatore don L
 uca Castiglioni\n15.40: Il World Cafè: relatore Davide Boniforti\n16.00: 
 Break\n16.30: Divisione in 3 gruppi dove si prova un metodo\n18.00: Rientr
 o in plenaria e preghiera conclusiva\n\n\n
ATTACH;FMTTYPE=image/jpeg:https://www.chiesadimilano.it/wp-content/uploads
 /sites/83/2026/04/matrimonio.jpg
CATEGORIES:In evidenza
LOCATION:Centro Pastorale Ambrosiano\, via San Carlo 2\, Altopiano di Seves
 o\, Lombardia\, 20822\, Monza e della Brianza\, Italia
GEO:45.650254;9.143944
X-APPLE-STRUCTURED-LOCATION;VALUE=URI;X-ADDRESS=via San Carlo 2\, Altopiano
  di Seveso\, Lombardia\, 20822\, Monza e della Brianza\, Italia;X-APPLE-RA
 DIUS=100;X-TITLE=Centro Pastorale Ambrosiano:geo:45.650254,9.143944
END:VEVENT
BEGIN:VTIMEZONE
TZID:Europe/Rome
X-LIC-LOCATION:Europe/Rome
BEGIN:DAYLIGHT
DTSTART:20260329T030000
TZOFFSETFROM:+0100
TZOFFSETTO:+0200
TZNAME:CEST
END:DAYLIGHT
END:VTIMEZONE
END:VCALENDAR