BEGIN:VCALENDAR
VERSION:2.0
PRODID:-//wp-events-plugin.com//6.3//EN
TZID:Europe/Rome
X-WR-TIMEZONE:Europe/Rome
BEGIN:VEVENT
UID:0-2348@chiesadimilano.it
DTSTART;TZID=Europe/Rome:20251209T000000
DTEND;TZID=Europe/Rome:20251209T000000
DTSTAMP:20251126T120351Z
URL:https://www.chiesadimilano.it/eventi/in-un-libro-lesperienza-profetica
 -di-casa-alber-a-olginate
SUMMARY:In un libro\, l'esperienza profetica di Casa Alber a Olginate
DESCRIPTION:Martedì 9 dicembre alle 20.30\, al Teatro Jolly di Olginate (L
 c)\, si terrà la presentazione del libro sulla storia dei coniugi Alberti
 na e Silvio Barbieri e di Casa Alber\, pionieri di  educazione comunitari
 a dei minori. Interverranno l'autore Maurizio Volpi e la editor Federica F
 rattini\, che dialogheranno con Mario Mozzanica e Mino Spreafico dell'Univ
 ersità Cattolica.\nModera l'incontro la giornalista Katia Sala.\nIngresso
  gratuito. Tutti sono invitati.\n\nClicca qui per conoscere la storia di C
 asa Alber e dei suoi fondatori.
ATTACH;FMTTYPE=image/jpeg:https://www.chiesadimilano.it/wp-content/uploads
 /sites/83/2025/11/5a4f2ce0-1d67-4a9a-a184-64c54722b9b9.jpeg
CATEGORIES:In evidenza
LOCATION:Teatro Jolly\, Via Don Gnocchi 15\, Olginate\, Lombardia\, 23854\,
  Lecco\, Italia
GEO:45.800183;9.412005
X-APPLE-STRUCTURED-LOCATION;VALUE=URI;X-ADDRESS=Via Don Gnocchi 15\, Olgina
 te\, Lombardia\, 23854\, Lecco\, Italia;X-APPLE-RADIUS=100;X-TITLE=Teatro 
 Jolly:geo:45.800183,9.412005
END:VEVENT
BEGIN:VTIMEZONE
TZID:Europe/Rome
X-LIC-LOCATION:Europe/Rome
BEGIN:STANDARD
DTSTART:20251026T020000
TZOFFSETFROM:+0200
TZOFFSETTO:+0100
TZNAME:CET
END:STANDARD
END:VTIMEZONE
END:VCALENDAR