BEGIN:VCALENDAR
VERSION:2.0
PRODID:-//wp-events-plugin.com//6.3//EN
TZID:Europe/Rome
X-WR-TIMEZONE:Europe/Rome
BEGIN:VEVENT
UID:0-2361@chiesadimilano.it
DTSTART;TZID=Europe/Rome;VALUE=DATE:20251205
DTEND;TZID=Europe/Rome;VALUE=DATE:20251206
DTSTAMP:20251203T102545Z
URL:https://www.chiesadimilano.it/eventi/il-suono-manuale-delle-campane-pr
 imo-anno-da-patrimonio-dellumanita
SUMMARY:Il suono manuale delle campane: primo anno da patrimonio dell’Uma
 nità
DESCRIPTION:Il 5 dicembre la Federazione Nazionale Suonatori di Campane fes
 teggia il I anniversario della Proclamazione Unesco: Arte Campanaria Tradi
 zionale Italiana patrimonio dell’Umanità. \nIn quella giornata alle or
 e 12 e alle ore 20 le campane rintoccheranno. Verranno eseguiti dei brevi 
 concerti.
ATTACH;FMTTYPE=image/jpeg:https://www.chiesadimilano.it/wp-content/uploads
 /sites/83/2025/12/campane.jpg
END:VEVENT
BEGIN:VTIMEZONE
TZID:Europe/Rome
X-LIC-LOCATION:Europe/Rome
BEGIN:STANDARD
DTSTART:20251026T020000
TZOFFSETFROM:+0200
TZOFFSETTO:+0100
TZNAME:CET
END:STANDARD
END:VTIMEZONE
END:VCALENDAR