BEGIN:VCALENDAR
VERSION:2.0
PRODID:-//wp-events-plugin.com//6.3//EN
TZID:Europe/Rome
X-WR-TIMEZONE:Europe/Rome
BEGIN:VEVENT
UID:0-2723@chiesadimilano.it
DTSTART;TZID=Europe/Rome:20260507T000000
DTEND;TZID=Europe/Rome:20260507T000000
DTSTAMP:20260422T141459Z
URL:https://www.chiesadimilano.it/eventi/il-pensiero-contro-le-armi-lattua
 lita-del-memoriale-di-aldo-moro
SUMMARY:Il pensiero contro le armi: l'attualità del memoriale di Aldo Moro
DESCRIPTION:Il prossimo 7 maggio al Pirellone\, sede di Regione Lombardia\,
   si svolgerà la Lettura scenica dal titolo "Il pensiero contro le armi:
  l'attualità del memoriale di Aldo Moro" un'opera che desidera valorizzar
 e il pensiero di Aldo Moro e alla luce dei suoi scritti e del suo Memorial
 e. Un reading che ridà voce al politico democristiano e ricostruisce i gi
 orni del sequestro con “gli occhi” e con lo sguardo dello stesso stati
 sta.\nL’evento è stato organizzato e promosso in occasione della Giorna
 ta in ricordo delle vittime del Terrorismo\, dalla Fondazione Maria Paola 
 Colombo Svevo  in collaborazione con il  Gruppo Consiliare PD Lombardi
 a e l’Associazione Amici del Dialogo di Monza.\nAl dibattito interverran
 no:\nCarlo Borghetti\, Consigliere PD Regione Lombardia\nSen. Mariapia Gar
 avaglia\, Presidente Fondazione Maria Paola Colombo Svevo\nLaurenzo Ticca\
 , giornalista
ATTACH;FMTTYPE=image/jpeg:https://www.chiesadimilano.it/wp-content/uploads
 /sites/83/2023/03/Aldo-Moro.jpg
CATEGORIES:In evidenza
LOCATION:Palazzo Pirelli\, via Fabio Filzi 22\, Milano\, Lombardia\, 20124\
 , Milano\, Italia
GEO:45.484919;9.200834
X-APPLE-STRUCTURED-LOCATION;VALUE=URI;X-ADDRESS=via Fabio Filzi 22\, Milano
 \, Lombardia\, 20124\, Milano\, Italia;X-APPLE-RADIUS=100;X-TITLE=Palazzo 
 Pirelli:geo:45.484919,9.200834
END:VEVENT
BEGIN:VTIMEZONE
TZID:Europe/Rome
X-LIC-LOCATION:Europe/Rome
BEGIN:DAYLIGHT
DTSTART:20260329T030000
TZOFFSETFROM:+0100
TZOFFSETTO:+0200
TZNAME:CEST
END:DAYLIGHT
END:VTIMEZONE
END:VCALENDAR