BEGIN:VCALENDAR
VERSION:2.0
PRODID:-//wp-events-plugin.com//6.3//EN
TZID:Europe/Rome
X-WR-TIMEZONE:Europe/Rome
BEGIN:VEVENT
UID:0-2128@chiesadimilano.it
DTSTART;TZID=Europe/Rome:20250926T000000
DTEND;TZID=Europe/Rome:20250926T000000
DTSTAMP:20250917T090642Z
URL:https://www.chiesadimilano.it/eventi/il-pellegrinaggio-della-scuola-de
 llinfanzia-brivio-con-larcivescovo-a-imbersago
SUMMARY:Il pellegrinaggio della scuola dell'Infanzia Brivio con l'Arcivesco
 vo a Imbersago
DESCRIPTION:Proseguono i festeggiamenti per gli 80 anni di presenza educati
 va della Scuola dell'Infanzia M.G. Brivio a San Giuliano Milanese.\nIl pen
 ultimo appuntamento sarà un’occasione speciale: un pellegrinaggio al Sa
 ntuario della Madonna del Bosco di Imbersago (Lc) nel pomeriggio del 26 se
 ttembre accompagnati dall’Arcivescovo che presiederà la celebrazione eu
 caristica giubilare nel Santuario.\nL’invito è rivolto a tutte le famig
 lie dei bambini che in questi 80 anni hanno frequentato la nostra scuola.\
 n«Tutti gli alunni\, gli ex alunni con le loro famiglie\, i nonni - affer
 ma la coordinatrice Giuliana Negroni -\, tutti coloro che hanno collaborat
 o negli anni e tutti i fedeli della Comunità pastorale S. Paolo VI \, son
 o caldamente invitati a partecipare e unirsi a noi in una occasione di fes
 ta e di ringraziamento insieme al personale scolastico e a don Luca Violon
 i».
ATTACH;FMTTYPE=image/jpeg:https://www.chiesadimilano.it/wp-content/uploads
 /sites/83/2017/08/Madonna-del-Bosco-Imbersago-santuario.jpg
LOCATION:Santuario della Madonna del Bosco\, Via Madonna del Bosco 1\, Sabb
 ione\, Lombardia\, 23898\, Lecco\, Italia
GEO:45.71069;9.447945
X-APPLE-STRUCTURED-LOCATION;VALUE=URI;X-ADDRESS=Via Madonna del Bosco 1\, S
 abbione\, Lombardia\, 23898\, Lecco\, Italia;X-APPLE-RADIUS=100;X-TITLE=Sa
 ntuario della Madonna del Bosco:geo:45.71069,9.447945
END:VEVENT
BEGIN:VTIMEZONE
TZID:Europe/Rome
X-LIC-LOCATION:Europe/Rome
BEGIN:DAYLIGHT
DTSTART:20250330T030000
TZOFFSETFROM:+0100
TZOFFSETTO:+0200
TZNAME:CEST
END:DAYLIGHT
END:VTIMEZONE
END:VCALENDAR