BEGIN:VCALENDAR
VERSION:2.0
PRODID:-//wp-events-plugin.com//6.3//EN
TZID:Europe/Rome
X-WR-TIMEZONE:Europe/Rome
BEGIN:VEVENT
UID:0-2209@chiesadimilano.it
DTSTART;TZID=Europe/Rome:20251022T000000
DTEND;TZID=Europe/Rome:20251022T000000
DTSTAMP:20251017T134432Z
URL:https://www.chiesadimilano.it/eventi/il-festival-dedicato-alla-musica-
 di-bach-alla-basilica-di-san-simpliciano-a-milano
SUMMARY:Il festival dedicato alla musica di Bach alla basilica di San Simpl
 iciano a Milano
DESCRIPTION:Mercoledì 22 ottobre\, alle 20.45\, si terrà l’ultimo conce
 rto del festival «Bach in basilica»\, giunto alla terza edizione\, nella
  chiesa paleocristiana di San Simpliciano a Milano\, prezioso scrigno per 
 la musica di Johann Sebastian Bach\, proposta da grandi interpreti del mon
 do organistico internazionale. Dopo la serata inaugurale con il maestro po
 lacco Krzysztof Urbaniak\, e l’esibizione del maestro Davide Pozzi lo sc
 orso 15 ottobre\, sarà l’organista francese Emmanuel Arakelian a chiude
 re la rassegna.\nProtagonista del ciclo è l’organo della basilica di Sa
 n Simpliciano: uno strumento musicale particolarmente prezioso (nella foto
 ). Costruito nel 1991 dall’organaro tedesco Jürgen Ahrend\, è il risul
 tato di un progetto nato nel 1985\, Anno europeo della musica.\nIl festiva
 l è organizzato dal «Canto di Orfeo» e dall’«Associazione Maestro» 
 in collaborazione con Fondazione Crocevia e j.s. Bach.it. I concerti sono 
 a ingresso libero. \n\nPer informazioni: ww.fondazionecrocevia.it.
ATTACH;FMTTYPE=image/jpeg:https://www.chiesadimilano.it/wp-content/uploads
 /sites/83/2025/10/MilImg_193_862826_2144297_20251016113610_2.jpg
LOCATION:Basilica di San Simpliciano\, Piazza S. Simpliciano\, 7\, Milano\,
  Lombardia\, 20121\, Milano\, Italia
GEO:45.47383;9.184013
X-APPLE-STRUCTURED-LOCATION;VALUE=URI;X-ADDRESS=Piazza S. Simpliciano\, 7\,
  Milano\, Lombardia\, 20121\, Milano\, Italia;X-APPLE-RADIUS=100;X-TITLE=B
 asilica di San Simpliciano:geo:45.47383,9.184013
END:VEVENT
BEGIN:VTIMEZONE
TZID:Europe/Rome
X-LIC-LOCATION:Europe/Rome
BEGIN:DAYLIGHT
DTSTART:20250330T030000
TZOFFSETFROM:+0100
TZOFFSETTO:+0200
TZNAME:CEST
END:DAYLIGHT
END:VTIMEZONE
END:VCALENDAR