BEGIN:VCALENDAR
VERSION:2.0
PRODID:-//wp-events-plugin.com//6.3//EN
TZID:Europe/Rome
X-WR-TIMEZONE:Europe/Rome
BEGIN:VEVENT
UID:0-2653@chiesadimilano.it
DTSTART;TZID=Europe/Rome:20260327T000000
DTEND;TZID=Europe/Rome:20260328T000000
DTSTAMP:20260325T095632Z
URL:https://www.chiesadimilano.it/eventi/il-27-e-28-marzo-giacomo-poretti-
 e-daniela-cristofori-presentano-la-prima-serata-di-laboratorio-teatrale-at
 elier-cristofori-poretti
SUMMARY:Il 27 e 28 marzo Giacomo Poretti e Daniela Cristofori presenta
 no la prima serata di laboratorio teatrale "Atelier Cristofori/Poretti"
DESCRIPTION:"Sala d'attesa" è il titolo dell'opera inedita che verrà mess
 a alla prova di fronte al pubblico insieme ad autori e attori: un racconto
  sull’attesa come condizione universale\, sull’amore come scelta e sul
 la complessità delle decisioni che attraversano i corpi\, il tempo e le r
 elazioni.\nLe due serate di laboratorio teatrale con Giacomo Poretti e Dan
 iela Cristofori\, in programma per il prossimo 27 e 28 marzo alle 20.30 al
  Teatro degli Angeli di Milano\, saranno una messa alla prova di fronte al
  pubblico del testo inedito “Sala d’attesa”\, in collaborazione con 
 giovani autori e attori.\nÈ un viaggio teatrale in tre quadri\, tre istin
 ti\, un unico fil rouge che attraversa il tempo e lo sospende. I piani tem
 porali si sfiorano e si confondono: potrebbe essere il passato\, il presen
 te o il futuro – oppure tutto insieme\, nello stesso respiro trattenuto.
 \nIn una stanza qualunque\, una coppia misura la distanza invisibile che s
 epara due corpi vicini: cosa significa amarsi davvero? È possibile bastar
 si\, o la vicinanza è un atto di coraggio quotidiano?\nAltrove – o fors
 e prima – un’altra coppia vive la notte che precede l’impianto di un
  embrione congelato anni prima. Tra rischi\, paure\, desideri e domande se
 nza risposta\, l’attesa diventa specchio delle loro fragilità e delle p
 romesse non dette.\nE poi c’è un terzo spazio\, sospeso e silenzioso: i
 l mondo dove gli embrioni\, congelati e non\, esistono come personaggi in 
 una dimensione senza tempo\, pura possibilità trattenuta tra acqua\, ghia
 ccio e destino.\nSala d'attesa è un racconto che guarda alla fragilità d
 ell’esistenza umana. È un racconto sull’attesa come condizione univer
 sale\, sull’amore come scelta e sulla complessità delle decisioni che a
 ttraversano i corpi\, il tempo e le relazioni.
ATTACH;FMTTYPE=image/jpeg:https://www.chiesadimilano.it/wp-content/uploads
 /sites/83/2026/03/Daniela-Cristofori-e-Giacomo-Poretti_Ph-Federico-Buscari
 no.jpeg
LOCATION:Teatro degli Angeli\, Via Pietro Colletta\, 21\, Milano\, Lombardi
 a\, 20135\, Milano\, Italia
GEO:45.450217;9.20853
X-APPLE-STRUCTURED-LOCATION;VALUE=URI;X-ADDRESS=Via Pietro Colletta\, 21\, 
 Milano\, Lombardia\, 20135\, Milano\, Italia;X-APPLE-RADIUS=100;X-TITLE=Te
 atro degli Angeli:geo:45.450217,9.20853
END:VEVENT
BEGIN:VTIMEZONE
TZID:Europe/Rome
X-LIC-LOCATION:Europe/Rome
BEGIN:STANDARD
DTSTART:20251026T020000
TZOFFSETFROM:+0200
TZOFFSETTO:+0100
TZNAME:CET
END:STANDARD
END:VTIMEZONE
END:VCALENDAR