BEGIN:VCALENDAR
VERSION:2.0
PRODID:-//wp-events-plugin.com//6.3//EN
TZID:Europe/Rome
X-WR-TIMEZONE:Europe/Rome
BEGIN:VEVENT
UID:0-2724@chiesadimilano.it
DTSTART;TZID=Europe/Rome:20260425T000000
DTEND;TZID=Europe/Rome:20260425T000000
DTSTAMP:20260424T080209Z
URL:https://www.chiesadimilano.it/eventi/il-25-aprile-alleremo-di-santa-ca
 terina-del-sasso-nel-giorno-in-cui-arrivarono-qui-le-truppe-neozelandesi-v
 isite-guidate-e-pic-nic
SUMMARY:Il 25 aprile all'Eremo di Santa Caterina del Sasso visite guidate e
  pic-nic
DESCRIPTION:Il 25 aprile del 1945 l’Eremo di Santa Caterina del Sasso fu 
 attraversato dalle truppe neozelandesi\, diventando testimone diretto dell
 e ultime fasi della Liberazione sul Lago Maggiore. Un episodio storico che
  oggi torna al centro di una proposta pensata per unire memoria\, cultura 
 e valorizzazione del territorio in occasione della Festa della Liberazione
  2026.\nPer celebrare questa ricorrenza\, è stata organizzata da Archeolo
 gistics\, impresa sociale impegnata nella valorizzazione dei beni cultural
 i\,una giornata speciale che permetterà ai visitatori di vivere l’Eremo
  in modo libero e coinvolgente. Alle ore 9.30 è in programma una visita g
 uidata dedicata proprio alla storia del luogo e al suo legame con gli even
 ti del 1945\, con ingresso e accompagnamento al costo di 10 euro\, che si 
 ripeterà alla stessa ora anche il 26 aprile. Un’opportunità per approf
 ondire le vicende che hanno segnato uno dei momenti fondanti della Repubbl
 ica italiana\, immersi in uno scenario di straordinaria bellezza.\nL’Ere
 mo sarà comunque accessibile per tutta la giornata\, dalle 9.30 alle 19.3
 0 con ultimo ingresso alle 19\, offrendo la possibilità di organizzare la
  visita secondo i propri tempi.\nAccanto al percorso culturale\, l’inizi
 ativa propone anche un’esperienza all’aria aperta grazie ai cesti pic-
 nic disponibili in due versioni\, tradizionale e vegetariana\, da consumar
 e nel grande prato accanto alla cascina del Quicchio\, uno spazio ideale a
 nche per famiglie e bambini.\nIl pic-nic tradizionale prevede un tramezzin
 o con roastbeef\, pesto e formaggio\, torta salata di spinaci e ricotta\, 
 torta di carote e acqua\, mentre la proposta vegetariana include un tramez
 zino con pesto\, formaggio\, zucchine e pomodoro\, torta salata\, macedoni
 a e acqua. Su richiesta\, fino a esaurimento\, sarà possibile avere anche
  un telo per stendersi sul prato.\nIl cesto potrà essere ritirato presso 
 il ristoro dell’Eremo\, di fronte alla biglietteria\, e consumato prima 
 o dopo la visita\, lasciando spazio a momenti di relax tra panchine vista 
 lago\, passeggiate e scoperta dei prodotti locali disponibili presso la st
 ruttura.\nUn’iniziativa che offre un modo originale per vivere il 25 apr
 ile\, intrecciando il valore della memoria storica con il piacere di trasc
 orrere una giornata immersi nella natura e nella bellezza del territorio.\
 nProgramma e info utili:\nPer chi lo desidera\, la giornata potrà iniziar
 e con la messa delle ore 9.00 nella chiesa dell’Eremo.\nIl punto di ritr
 ovo è fissato presso la biglietteria in via Santa Caterina 13 a Leggiuno\
 , con parcheggio gratuito a disposizione.\nIl biglietto combinato per ingr
 esso\, visita guidata e cesto pic-nic è proposto a 25 euro\, mentre resta
  possibile optare anche per la sola visita guidata o per l’ingresso libe
 ro con pic-nic. L’acquisto garantisce l’ingresso preferenziale in caso
  di coda e consente l’accesso in qualsiasi momento della giornata.\nPer 
 prenotare la vista guidata all’Eremo clicca qui. \nPer prenotare ingres
 so all’Eremo e cesto da pic-nic clicca qui.
ATTACH;FMTTYPE=image/jpeg:https://www.chiesadimilano.it/wp-content/uploads
 /sites/83/2026/04/8238_Eremo_Santa_Caterina_Leggiuno.jpeg
CATEGORIES:In evidenza
LOCATION:Eremo di Santa Caterina del Sasso\, Via Santa Caterina\, 13\, Reno
 \, Lombardia\, 21038\, Varese\, Italia
GEO:45.877443;8.596792
X-APPLE-STRUCTURED-LOCATION;VALUE=URI;X-ADDRESS=Via Santa Caterina\, 13\, R
 eno\, Lombardia\, 21038\, Varese\, Italia;X-APPLE-RADIUS=100;X-TITLE=Eremo
  di Santa Caterina del Sasso:geo:45.877443,8.596792
END:VEVENT
BEGIN:VTIMEZONE
TZID:Europe/Rome
X-LIC-LOCATION:Europe/Rome
BEGIN:DAYLIGHT
DTSTART:20260329T030000
TZOFFSETFROM:+0100
TZOFFSETTO:+0200
TZNAME:CEST
END:DAYLIGHT
END:VTIMEZONE
END:VCALENDAR