BEGIN:VCALENDAR
VERSION:2.0
PRODID:-//wp-events-plugin.com//6.3//EN
TZID:Europe/Rome
X-WR-TIMEZONE:Europe/Rome
BEGIN:VEVENT
UID:0-2362@chiesadimilano.it
DTSTART;TZID=Europe/Rome;VALUE=DATE:20251208
DTEND;TZID=Europe/Rome;VALUE=DATE:20251209
DTSTAMP:20251203T111055Z
URL:https://www.chiesadimilano.it/eventi/guanzate-inaugurazione-del-presep
 e-al-santuario-della-beata-vergine-di-san-lorenzo
SUMMARY:Guanzate: inaugurazione del Presepe al Santuario della Beata Vergin
 e di San Lorenzo
DESCRIPTION:Lunedì 8 dicembre alle 15 inaugurazione del Presepe\, allestit
 o come ogni anno\, presso il Santuario della Beata Vergine di San Lorenzo 
 a Guanzate.\nIl coro polifonico “Ad Artem” di Orsenigo (Como) allieter
 à i presenti con un concerto di brani mariani in onore alla Madonna del L
 atte venerata nel nostro santuario dal 1497.\n\n\nCon lo spirito di Gesù
 … sali sul carro dell’altro (Atti 8-26\,40) \n“Disse allora lo Spiri
 to a Filippo: “Va avanti e accostati a quel carro”.\nGli Amici Volonta
 ri del Presepe hanno preso spunto da queste parole tratte dal capitolo 8 d
 egli Atti degli Apostoli\, per progettare e realizzare con costante impegn
 o e tanto lavoro\, il Presepe che i visitatori troveranno anche quest’an
 no presso il Santuario della Beata Vergine di San Lorenzo dove tra le tant
 e opere d’arte brilla il sacro affresco della Madonna che allatta Gesù.
 \nCristo\, nella persona di Filippo\, sale sul carro dell’Etiope per riv
 elargli il volto di Dio. Cristo\, nella persona di Filippo\, battezza l’
 Etiope e gli dona la salvezza. Ecco il mistero del Natale: Dio in Cristo s
 ale sul carro della storia. Dio in Cristo sale sul carro della nostra vita
 . E lo fa ogni giorno\, nella Sua Chiesa per rivelare il volto di un Dio c
 he è Amore\, per donare la salvezza che il nostro cuore attende. E la Sua
  Chiesa siamo noi\, chiamati a salire sul carro dell’altro per rivelargl
 i il volto di Dio\, per far sì che ancora oggi Dio si faccia vicino all
 ’uomo per donargli la salvezza.\nLa scena presepistica è dominata dal g
 ruppo della Natività collocato su un carro\, che sovrasta un borgo agrico
 lo che ricorda i nostri paesi di campagna del secolo scorso. Un borgo dove
  scorre un ruscello rigoglioso che sfocia in un piccolo laghetto e dove so
 no posizionate le classiche statuine del presepe\, alcune delle quali in c
 ammino verso la natività\, insieme alle figure in movimento che riproduco
 no gli antichi mestieri realizzate nel corso degli anni dal compianto guan
 zatese Vittorio Gini. Completano la scena presepistica i giochi di luci ch
 e simulano il giorno e la notte\, una stella cometa posta sopra la nativit
 à\, un gioco di teli sul soffitto della cappella che vuol simulare le vol
 te celesti.\nIl pomeriggio dell’8 dicembre alle ore 15.00 in occasione d
 ell’inaugurazione\, il Coro Polifonico “Ad Artem” di Orsenigo\, dire
 tto dal M° Stefano Stefanoni offrirà ai presenti un concerto meditativo 
 con un ricco repertorio di brani mariani e natalizi che spaziano dalla pol
 ifonia antica fino ad arrivare alla musica contemporanea sacra.\nFino al 2
 5 gennaio\, tutti i giorni dalle 14:30 alle 16:30\, sarà possibile visita
 re l’opera che il gruppo dei volontari “Amici del Presepe del Santuari
 o” ha realizzato con la speranza di poter offrire ai sempre più numeros
 i visitatori un momento di riflessione e preghiera davanti al grande miste
 ro di Gesù che si fa uomo fra gli uomini e che ci invita a “salire sul 
 carro dell’altro” e a lasciare che gli altri “salgano sul nostro car
 ro” senza pregiudizi o preclusioni di alcun genere\, portando a tutti il
  suo messaggio di amore e di speranza.
ATTACH;FMTTYPE=image/jpeg:https://www.chiesadimilano.it/wp-content/uploads
 /sites/83/2025/12/495b761d-ac91-44c0-83e7-184.jpg
LOCATION:Santuario della Beata Vergine di San Lorenzo\, Via Padre Eusebio P
 ozzi\, Guanzate\, Lombardia\, Como\, Italia
GEO:45.72758;9.01984
X-APPLE-STRUCTURED-LOCATION;VALUE=URI;X-ADDRESS=Via Padre Eusebio Pozzi\, G
 uanzate\, Lombardia\, Como\, Italia;X-APPLE-RADIUS=100;X-TITLE=Santuario d
 ella Beata Vergine di San Lorenzo:geo:45.72758,9.01984
END:VEVENT
BEGIN:VTIMEZONE
TZID:Europe/Rome
X-LIC-LOCATION:Europe/Rome
BEGIN:STANDARD
DTSTART:20251026T020000
TZOFFSETFROM:+0200
TZOFFSETTO:+0100
TZNAME:CET
END:STANDARD
END:VTIMEZONE
END:VCALENDAR