BEGIN:VCALENDAR
VERSION:2.0
PRODID:-//wp-events-plugin.com//6.3//EN
TZID:Europe/Rome
X-WR-TIMEZONE:Europe/Rome
BEGIN:VEVENT
UID:0-1924@chiesadimilano.it
DTSTART;TZID=Europe/Rome:20250522T000000
DTEND;TZID=Europe/Rome:20250522T000000
DTSTAMP:20250513T121810Z
URL:https://www.chiesadimilano.it/eventi/giubileo-delluniversita-al-sacro-
 monte-di-varese-preghiera-e-messa-con-larcivescovo
SUMMARY:Giubileo dell'Università: al Sacro Monte di Varese preghiera e Mes
 sa con l'Arcivescovo
DESCRIPTION:Nell’anno giubilare e nel mese mariano\, giovedì 22 maggio a
 lle 17\, gli universitari e i docenti sono invitati a partecipare a un inc
 ontro con l'Arcivescovo presso il Sacro Monte di Varese\, per pregare in m
 aniera comunitaria e ravvivare la Speranza\, tema del Giubileo\, affidando
  la propria vita e l’umanità intera all’intercessione di Maria presso
  Gesù.\nProgramma:\nOre 17.00: ritrovo\;\nOre 17.15: inizio della salita 
 e della preghiera comune\;\nOre 18.30: concelebrazione eucaristica presied
 uta dall'Arcivescovo di Milano.\nIscrizioni: per questioni organizzative c
 hiediamo di segnalare la partecipazione compilando l’apposito modulo onl
 ine entro e non oltre martedì 20 maggio.\nInformazioni:\nServizio per i G
 iovani e l’Università\nVai San Carlo\, 2 – 20822 Seveso (MB)\nTel. 03
 62 647500\nE-mail: pastoraleuniversitaria@diocesi.milano.it
ATTACH;FMTTYPE=image/jpeg:https://www.chiesadimilano.it/wp-content/uploads
 /sites/83/2024/11/Agenzia_Fotogramma_FGR4187453-scaled.jpg
CATEGORIES:In evidenza
LOCATION:Santuario di Santa Maria del Monte\, Via dell'Assunzione\, 21\, Sa
 nta Maria del monte\, Lombardia\, Varese\, Italia
GEO:45.859847;8.793672
X-APPLE-STRUCTURED-LOCATION;VALUE=URI;X-ADDRESS=Via dell'Assunzione\, 21\, 
 Santa Maria del monte\, Lombardia\, Varese\, Italia;X-APPLE-RADIUS=100;X-T
 ITLE=Santuario di Santa Maria del Monte:geo:45.859847,8.793672
END:VEVENT
BEGIN:VTIMEZONE
TZID:Europe/Rome
X-LIC-LOCATION:Europe/Rome
BEGIN:DAYLIGHT
DTSTART:20250330T030000
TZOFFSETFROM:+0100
TZOFFSETTO:+0200
TZNAME:CEST
END:DAYLIGHT
END:VTIMEZONE
END:VCALENDAR