BEGIN:VCALENDAR
VERSION:2.0
PRODID:-//wp-events-plugin.com//6.3//EN
TZID:Europe/Rome
X-WR-TIMEZONE:Europe/Rome
BEGIN:VEVENT
UID:0-2381@chiesadimilano.it
DTSTART;TZID=Europe/Rome;VALUE=DATE:20251212
DTEND;TZID=Europe/Rome;VALUE=DATE:20251215
DTSTAMP:20251212T144845Z
URL:https://www.chiesadimilano.it/eventi/giubileo-dei-detenuti
SUMMARY:Giubileo dei detenuti
DESCRIPTION:L’ultimo evento tematico dell’anno giubilare è dedicato pr
 oprio ai detenuti: una giornata di preghiera e solidarietà a cui sono inv
 itati a partecipare non solo i carcerati ma anche i loro familiari\, il pe
 rsonale carcerario e i volontari che lavorano all’interno del sistema pe
 nitenziario. Il Giubileo dei Detenuti si svolge domenica 14 dicembre.\n\n\
 nPreghiera del detenuto \nCristo\, io sono carcerato. \nAvrei più tempo
  dei certosini per pregarti\, ma forse tu solo sai quanto sia difficile pr
 egare per un carcerato. \nLa ribellione esplode ogni momento\, dal più p
 rofondo di noi stessi.  \nÈ difficile pregare e credere quando ci si se
 nte abbandonati dall’umanità.  \nAnche per te fu difficile pregare su
 lla croce e gridasti la tua angoscia\, la tua delusione\, la tua amarezza:
  “Perché mi hai abbandonato?” \nPerché sulle tue labbra era diverso
 : tu eri l’innocente. \nNoi innocenti non siamo\, come d’altronde non
  lo è nessun uomo sulla terra. \nAnche tu fosti un carcerato\, un tortur
 ato\, un imputato e un condannato. \nTu il cui scandalo per i virtuosi di
  professione fu di canonizzare\, senza miracoli e senza processi\, un ladr
 o condannato a morte. \nA te Signore\, vittima di tutte le ingiustizie co
 mmesse dall’ingiustizia umana\, rivolgiamo il nostro grido: “Accettalo
  come preghiera”.  \nTu perdoni e dimentichi\, noi però non vogliamo 
 l’elemosina della pietà. \nVogliamo che si creda in noi\, nella nostra
  rigenerazione Signore\, io non voglio perdere la mia dignità umana per i
 l fatto che sono un carcerato. \nNon voglio rinunciare ad essere\, voglio
  credere che almeno tu\, il più giusto ed innocente dei condannati della 
 storia\, sarai capace di capire le mie lacrime\, la mia rabbia. \nTu sei 
 l’unico filo di speranza vera. \nCristo\, dammi la fede nella vera libe
 rtà che è dentro di noi e che nessuno può strapparci. \nF.C. \nda “
 Preghiere dal carcere”\, ed. La Vita Felice \n&nbsp\;\n12-14 Dicembre -
  Ambrosianeum - Via delle Ore\, 3 - Milano
ATTACH;FMTTYPE=image/jpeg:https://www.chiesadimilano.it/wp-content/uploads
 /sites/83/2025/12/cq5dam.web_.1280.1280.jpg
LOCATION:Fondazione Ambrosianeum\,  Via delle Ore\, 3 \, Milano\, Lombardia
 \, 20122\, Milano\, Italia
GEO:45.462894;9.19256
X-APPLE-STRUCTURED-LOCATION;VALUE=URI;X-ADDRESS= Via delle Ore\, 3 \, Milan
 o\, Lombardia\, 20122\, Milano\, Italia;X-APPLE-RADIUS=100;X-TITLE=Fondazi
 one Ambrosianeum:geo:45.462894,9.19256
END:VEVENT
BEGIN:VTIMEZONE
TZID:Europe/Rome
X-LIC-LOCATION:Europe/Rome
BEGIN:STANDARD
DTSTART:20251026T020000
TZOFFSETFROM:+0200
TZOFFSETTO:+0100
TZNAME:CET
END:STANDARD
END:VTIMEZONE
END:VCALENDAR