BEGIN:VCALENDAR
VERSION:2.0
PRODID:-//wp-events-plugin.com//6.3//EN
TZID:Europe/Rome
X-WR-TIMEZONE:Europe/Rome
BEGIN:VEVENT
UID:0-2719@chiesadimilano.it
DTSTART;TZID=Europe/Rome:20260505T000000
DTEND;TZID=Europe/Rome:20260505T000000
DTSTAMP:20260422T101833Z
URL:https://www.chiesadimilano.it/eventi/fra-vita-e-morte-unesperienza-di-
 confine-fra-scienza-coscienza-e-teologia
SUMMARY:Fra vita e morte: un'esperienza di confine fra scienza\, coscienza 
 e teologia
DESCRIPTION:Cosa c’è fra Terra e Cielo\, fra coscienza e incoscienza\, i
 n quello spazio di confine che non è né vita né morte\, ma che tuttavia
  esiste? Questo il cuore dell’incontro dal titolo “Esperienze ai confi
 ni della morte - tra scienza\, coscienza e teologia”\, promosso dalle Fo
 ndazioni Ambrosianeum e Matarelli\, in programma martedì 5 maggio alle or
 e 17.00 presso la sede milanese di via delle Ore 3.\nL’iniziativa\, a cu
 ra del Prof. Giorgio Lambertenghi Deliliers\, Direttore della Scuola di Sp
 ecializzazione in Ematologia dell’Università di Milano\, intende promuo
 vere una riflessione di carattere interdisciplinare\, aprendo così uno sp
 azio di confronto a partire dall’incontro tra due prospettive e linguagg
 i apparentemente opposti\, ma entrambi parte fondamentale della stessa esp
 erienza umana e di fede: la scienza e la teologia. In un mondo come quello
  odierno\, spesso contraddittorio e in fragile equilibrio\, queste due dim
 ensioni appaiono come due facce della stessa medaglia\,  risultando parti
 colarmente utili per guardare all’esperienza della vita – e del suo sf
 iorire – con occhio analitico e razionale da un lato\, contemplativo e s
 pirituale dall’altro.\nA introdurre i lavori saranno i saluti di Marcell
 o Massimini\, Prof. Ord. Fisiologia Umana Univ. di Milano\, PhD in Neurofi
 siologia\, Dip. of Biomedical and Clinical Sciences\, Osp. L. Sacco\, Mila
 no\, coordinatore di questo dibattito. A seguire\, alcuni esponenti dell
 ’ambito scientifico e filosofico-teologico entreranno in dialogo fra lor
 o\, offrendo diversi spunti e contributi: Daniela Cattaneo\, Medico pallia
 tivista\, consulente AISLA\, AUSL di Parma\; Francesco Agnoli\, Prof. di S
 toria e Filosofia\, Ateneo pontificio Regina Apostolorum\, Roma\; Stefano 
 Cucchetti\, Teologo morale\, Cappellano del carcere di Bollate-Milano.\n«
 Le esperienze ai confini della morte – note anche come NDE\, sigla dell'
 espressione “Near Death Experience” – sono fenomeni descritti da sog
 getti che hanno ripreso conoscenza dopo aver sperimentato\, a causa di gra
 vi patologie o di traumi al cervello\, un  lungo periodo in stato di coma
  profondo. A volte le NDE vengono riferite anche da soggetti che\, pur non
  avendo mai perso le funzioni vitali\, hanno vissuto l'esperienza a seguit
 o di gravi incidenti. I neuroscienziati ipotizzano che si tratti di sensaz
 ioni soggettive\, risultanti da una confusione sensoriale che ha luogo a s
 eguito di un evento traumatico. Chi ha invece credenze di spiritualismo pa
 ranormale ritiene che le NDE possano essere segno di una vita oltre la mor
 te» - ha dichiarato Prof. Giorgio Lambertenghi DELILIERS\, Direttore dell
 a Scuola di Specializzazione in Ematologia dell’Università di Milano.
ATTACH;FMTTYPE=image/jpeg:https://www.chiesadimilano.it/wp-content/uploads
 /sites/83/2026/04/733215-angel-670920-scaled.jpg
LOCATION:Fondazione Ambrosianeum\,  Via delle Ore\, 3 \, Milano\, Lombardia
 \, 20122\, Milano\, Italia
GEO:45.462894;9.19256
X-APPLE-STRUCTURED-LOCATION;VALUE=URI;X-ADDRESS= Via delle Ore\, 3 \, Milan
 o\, Lombardia\, 20122\, Milano\, Italia;X-APPLE-RADIUS=100;X-TITLE=Fondazi
 one Ambrosianeum:geo:45.462894,9.19256
END:VEVENT
BEGIN:VTIMEZONE
TZID:Europe/Rome
X-LIC-LOCATION:Europe/Rome
BEGIN:DAYLIGHT
DTSTART:20260329T030000
TZOFFSETFROM:+0100
TZOFFSETTO:+0200
TZNAME:CEST
END:DAYLIGHT
END:VTIMEZONE
END:VCALENDAR